BEGIN:VCALENDAR
VERSION:2.0
PRODID:-//evangelische-termine.de//NONSGML kigkonsult.se iCalcreator 2.18//
CALSCALE:GREGORIAN
METHOD:PUBLISH
X-WR-CALNAME:iCal Evangelische-Termine 19.04.2026
X-WR-CALDESC:iCalender von Evangelische-Termine (19.04.2026)
X-WR-TIMEZONE:Europe/Berlin
X-MS-OLK-FORCEINSPECTOROPEN:TRUE
BEGIN:VTIMEZONE
TZID:Europe/Berlin
BEGIN:STANDARD
DTSTART:19701025T030000
TZOFFSETFROM:+0200
TZOFFSETTO:+0100
RRULE:FREQ=YEARLY;BYDAY=-1SU;BYMONTH=10
TZNAME:CET
END:STANDARD
BEGIN:DAYLIGHT
DTSTART:19700329T020000
TZOFFSETFROM:+0100
TZOFFSETTO:+0200
RRULE:FREQ=YEARLY;BYDAY=-1SU;BYMONTH=3
TZNAME:CEST
END:DAYLIGHT
END:VTIMEZONE
BEGIN:VEVENT
UID:20231209T180000-719918@evangelische-termine.de
DTSTAMP:20260419T193449Z
DESCRIPTION:\nKirchenkreis: überregional\nArt der Veranstaltung: Fortbildun
 gen / Seminare / Vorträge\nVeranstaltungsort: Autobahn- und Radwegskirche 
 St. Paul in Wittlich\nArnold-Janssen-Straße 1\n54516 Wittlich\nKurzbeschre
 ibung / Untertitel: Vortrag mit Diskussion\nAusführliche Beschreibung: Die
  Gemeinwohl-Ökonomie (GWÖ) ist ein innovatives\, nachhaltiges Wirtschaftsm
 odell mit dem Ziel einer ethischen Wirtschaftskultur. Als Alternative zum 
 gegenwärtigen Wirtschaftsverständnis baut sie auf den Werten Menschenwürde
 \, ökologische Verantwortung\, Solidarität\, soziale Gerechtigkeit\,\ndemo
 kratische Mitbestimmung und Transparenz auf. \nHinter der Gemeinwohl-Ökono
 mie steht die Überzeugung\, dass die drängenden Herausforderungen unserer 
 Zeit – von der Ressourcenknappheit über die Klimakrise\, vom Verlust der A
 rtenvielfalt bis hin zur größer werdenden Kluft zwischen Arm und Reich – F
 olgen des Kapitalismus sind und nur ganzheitlich und systemisch zu lösen s
 ind.\nDie Gemeinwohl-Ökonomie bietet einen Ansatz zur schrittweisen Transf
 ormation unseres Wirtschaftssystems.\nInternetadresse (eigene Infos im Int
 ernet): http://www.autobahnkirche-stpaul.de/Termine.html\nFörderbereich: G
 esellschaft\, Politik und Wirtschaft\nReferent/in: Hermann Lex und Prof. D
 r. Rolf Linn\, beide Hochschule Trier\nAnsprechpartner/in - Leitung: Förde
 rverein Autobahnkirche St. Paul Wittlich e.V.\nKosten: kostenlos\nZusatzin
 formationen: Keine Anmeldeung erforderlich
DTSTART;TZID=Europe/Berlin:20231209T180000
DTEND;TZID=Europe/Berlin:20231209T190000
LOCATION:Wittlich: Autobahn- und Radwegskirche St. Paul in Wittlich
SUMMARY:Wirtschaft neu denken. Eine ethische Wirtschaft ist möglich... :: V
 ortrag mit Diskussion
URL:https://termine.ekir.de/veranstaltung_im_detail719918.html
END:VEVENT
END:VCALENDAR
