BEGIN:VCALENDAR
VERSION:2.0
PRODID:-//evangelische-termine.de//NONSGML kigkonsult.se iCalcreator 2.18//
CALSCALE:GREGORIAN
METHOD:PUBLISH
X-WR-CALNAME:iCal Evangelische-Termine 19.04.2026
X-WR-CALDESC:iCalender von Evangelische-Termine (19.04.2026)
X-WR-TIMEZONE:Europe/Berlin
X-MS-OLK-FORCEINSPECTOROPEN:TRUE
BEGIN:VTIMEZONE
TZID:Europe/Berlin
BEGIN:STANDARD
DTSTART:19701025T030000
TZOFFSETFROM:+0200
TZOFFSETTO:+0100
RRULE:FREQ=YEARLY;BYDAY=-1SU;BYMONTH=10
TZNAME:CET
END:STANDARD
BEGIN:DAYLIGHT
DTSTART:19700329T020000
TZOFFSETFROM:+0100
TZOFFSETTO:+0200
RRULE:FREQ=YEARLY;BYDAY=-1SU;BYMONTH=3
TZNAME:CEST
END:DAYLIGHT
END:VTIMEZONE
BEGIN:VEVENT
UID:20231210T110000-719919@evangelische-termine.de
DTSTAMP:20260419T192643Z
DESCRIPTION:\nKirchenkreis: überregional\nArt der Veranstaltung: Fortbildun
 gen / Seminare / Vorträge\nVeranstaltungsort: Theologisches Quartett Trier
  e.V.\nDomfreihof 1b\n54290 Trier\nKurzbeschreibung / Untertitel: Vortrag 
 mit Diskussion\nAusführliche Beschreibung: Die Gemeinwohl-Ökonomie (GWÖ) i
 st ein innovatives\, nachhaltiges Wirtschaftsmodell mit dem Ziel einer eth
 ischen Wirtschaftskultur. Als Alternative zum gegenwärtigen Wirtschaftsver
 ständnis baut sie auf den Werten Menschenwürde\, ökologische Verantwortung
 \, Solidarität\, soziale Gerechtigkeit\,\ndemokratische Mitbestimmung und 
 Transparenz auf.\nHinter der Gemeinwohl-Ökonomie steht die Überzeugung\, d
 ass die drängenden Herausforderungen unserer Zeit – von der Ressourcenknap
 pheit über die Klimakrise\, vom Verlust der Artenvielfalt bis hin zur größ
 er werdenden Kluft zwischen Arm und Reich – Folgen des Kapitalismus sind u
 nd nur ganzheitlich und systemisch zu lösen sind.\nDie Gemeinwohl-Ökonomie
  bietet einen Ansatz zur schrittweisen Transformation unseres Wirtschaftss
 ystems.\nInternetadresse (eigene Infos im Internet): https://www.tqt-trier
 .de/index.php/aktivitaeten-veranstaltungen\nFörderbereich: Gesellschaft\, 
 Politik und Wirtschaft\nReferent/in: Hermann Lex und Prof. Dr. Rolf Linn\,
  beide Hochschule Trier\nAnsprechpartner/in - Leitung: Theologisches Quart
 ett Trier e.V.\nKosten: kostenlos\nZusatzinformationen: Keine Anmeldeung e
 rforderlich
DTSTART;TZID=Europe/Berlin:20231210T110000
DTEND;TZID=Europe/Berlin:20231210T120000
LOCATION:Trier: Theologisches Quartett Trier e.V.
SUMMARY:Wirtschaft neu denken. Eine ethische Wirtschaft ist möglich... :: V
 ortrag mit Diskussion
URL:https://termine.ekir.de/veranstaltung_im_detail719919.html
END:VEVENT
END:VCALENDAR
