BEGIN:VCALENDAR
VERSION:2.0
PRODID:-//evangelische-termine.de//NONSGML kigkonsult.se iCalcreator 2.18//
CALSCALE:GREGORIAN
METHOD:PUBLISH
X-WR-CALNAME:iCal Evangelische-Termine 19.04.2026
X-WR-CALDESC:iCalender von Evangelische-Termine (19.04.2026)
X-WR-TIMEZONE:Europe/Berlin
X-MS-OLK-FORCEINSPECTOROPEN:TRUE
BEGIN:VTIMEZONE
TZID:Europe/Berlin
BEGIN:STANDARD
DTSTART:19701025T030000
TZOFFSETFROM:+0200
TZOFFSETTO:+0100
RRULE:FREQ=YEARLY;BYDAY=-1SU;BYMONTH=10
TZNAME:CET
END:STANDARD
BEGIN:DAYLIGHT
DTSTART:19700329T020000
TZOFFSETFROM:+0100
TZOFFSETTO:+0200
RRULE:FREQ=YEARLY;BYDAY=-1SU;BYMONTH=3
TZNAME:CEST
END:DAYLIGHT
END:VTIMEZONE
BEGIN:VEVENT
UID:20231007T180000-719920@evangelische-termine.de
DTSTAMP:20260419T175535Z
DESCRIPTION:\nKirchenkreis: überregional\nArt der Veranstaltung: Fortbildun
 gen / Seminare / Vorträge\nVeranstaltungsort: Autobahn- und Radwegskirche 
 St. Paul in Wittlich\nArnold-Janssen-Straße 1\n54516 Wittlich\nKurzbeschre
 ibung / Untertitel: Vortrag mit Diskussion\nInternetadresse (eigene Infos 
 im Internet): http://www.autobahnkirche-stpaul.de/Termine.html\nFörderbere
 ich: Politische Bildung\nReferent/in: Prof. Dr. Kristin Shi-Kupfer\, Unive
 rsität Trier\nAnsprechpartner/in - Leitung: Förderverein Autobahnkirche St
 . Paul Wittlich e.V.\nKosten: kostenlos\nZusatzinformationen: Keine Anmeld
 eung erforderlich
DTSTART;TZID=Europe/Berlin:20231007T180000
DTEND;TZID=Europe/Berlin:20231007T190000
LOCATION:Wittlich: Autobahn- und Radwegskirche St. Paul in Wittlich
SUMMARY:Das Ende der Naivität – wie China\, den Westen herausfordert :: Vor
 trag mit Diskussion
URL:https://termine.ekir.de/veranstaltung_im_detail719920.html
END:VEVENT
END:VCALENDAR
