BEGIN:VCALENDAR
VERSION:2.0
PRODID:-//evangelische-termine.de//NONSGML kigkonsult.se iCalcreator 2.18//
CALSCALE:GREGORIAN
METHOD:PUBLISH
X-WR-CALNAME:iCal Evangelische-Termine 19.04.2026
X-WR-CALDESC:iCalender von Evangelische-Termine (19.04.2026)
X-WR-TIMEZONE:Europe/Berlin
X-MS-OLK-FORCEINSPECTOROPEN:TRUE
BEGIN:VTIMEZONE
TZID:Europe/Berlin
BEGIN:STANDARD
DTSTART:19701025T030000
TZOFFSETFROM:+0200
TZOFFSETTO:+0100
RRULE:FREQ=YEARLY;BYDAY=-1SU;BYMONTH=10
TZNAME:CET
END:STANDARD
BEGIN:DAYLIGHT
DTSTART:19700329T020000
TZOFFSETFROM:+0100
TZOFFSETTO:+0200
RRULE:FREQ=YEARLY;BYDAY=-1SU;BYMONTH=3
TZNAME:CEST
END:DAYLIGHT
END:VTIMEZONE
BEGIN:VEVENT
UID:20230928T180000-719923@evangelische-termine.de
DTSTAMP:20260419T174203Z
DESCRIPTION:\nKirchenkreis: überregional\nArt der Veranstaltung: Fortbildun
 gen / Seminare / Vorträge\nVeranstaltungsort: Diakonisches Werk Trier\nThe
 obaldstraße 10\n54292 Trier\nKurzbeschreibung / Untertitel: Vorsorgevollma
 cht Richtig handeln im Ernstfall – zwei Veranstaltungen\nAusführliche Besc
 hreibung: 1. Veranstaltung:\nAllgemeine Einführung in die Voraussetzungen 
 für das Tätigwerden eines Bevollmächtigten und dessen Aufgaben\nInternetad
 resse (eigene Infos im Internet): https://diakoniehilft.ekir.de/thema/betr
 euungsverein-im-diakonischen-werk-trier-e-v/\nFörderbereich: Abschluss- un
 d schulabschlussbezogene Bildung\nReferent/in: Jürgen Etzel\nAnsprechpartn
 er/in - Leitung: Jürgen Etzel\nKosten: kostenlos\nZusatzinformationen: Bet
 reuungsverein im diakonischen Werk Trier e.V.\nAnmeldung bis 15.09.2023 an
 : \nbtv.trier@diakoniehilft.de
DTSTART;TZID=Europe/Berlin:20230928T180000
DTEND;TZID=Europe/Berlin:20230928T193000
LOCATION:Trier: Diakonisches Werk Trier
SUMMARY:Vorsorgevollmacht – Veranstaltung I
URL:https://termine.ekir.de/veranstaltung_im_detail719923.html
END:VEVENT
END:VCALENDAR
