BEGIN:VCALENDAR
VERSION:2.0
PRODID:-//evangelische-termine.de//NONSGML kigkonsult.se iCalcreator 2.18//
CALSCALE:GREGORIAN
METHOD:PUBLISH
X-WR-CALNAME:iCal Evangelische-Termine 19.04.2026
X-WR-CALDESC:iCalender von Evangelische-Termine (19.04.2026)
X-WR-TIMEZONE:Europe/Berlin
X-MS-OLK-FORCEINSPECTOROPEN:TRUE
BEGIN:VTIMEZONE
TZID:Europe/Berlin
BEGIN:STANDARD
DTSTART:19701025T030000
TZOFFSETFROM:+0200
TZOFFSETTO:+0100
RRULE:FREQ=YEARLY;BYDAY=-1SU;BYMONTH=10
TZNAME:CET
END:STANDARD
BEGIN:DAYLIGHT
DTSTART:19700329T020000
TZOFFSETFROM:+0100
TZOFFSETTO:+0200
RRULE:FREQ=YEARLY;BYDAY=-1SU;BYMONTH=3
TZNAME:CEST
END:DAYLIGHT
END:VTIMEZONE
BEGIN:VEVENT
UID:20230923T000000-719924@evangelische-termine.de
DTSTAMP:20260419T173011Z
DESCRIPTION:\nKirchenkreis: überregional\nArt der Veranstaltung: Fortbildun
 gen / Seminare / Vorträge\nVeranstaltungsort: Diakonisches Werk Trier\nThe
 obaldstraße 10\n54292 Trier\nKurzbeschreibung / Untertitel: Veranstaltung 
 für ehrenamtliche Betreuerinnen und Betreuer und Interessierte\nAusführlic
 he Beschreibung: Tagesprogramm:\n\nGemeinsame Abfahrt in Trier nach Ludwig
 shafen\n\n1. Am Vormittag Vortrag zum Thema „Unterstützte Entscheidungsfin
 dung“\nDas Recht der betreuten Menschen eigene Entscheidungen zu treffen 
 \n\nGemeinsames Mittagessen\n\n2. Am Nachmittag Führung „Stadt-Wand-Kunst“
  in Mannheim\nInternetadresse (eigene Infos im Internet): https://diakonie
 hilft.ekir.de/thema/betreuungsverein-im-diakonischen-werk-trier-e-v/\nFörd
 erbereich: Abschluss- und schulabschlussbezogene Bildung\nReferent/in: Jür
 gen Etzel\nAnsprechpartner/in - Leitung: Jürgen Etzel\nKosten: kostenlos\n
 Zusatzinformationen: Betreuungsverein im diakonischen Werk Trier e.V.\nAnm
 eldung bis 25.08.2023 an: \nbtv.trier@diakoniehilft.de
DTSTART;VALUE=DATE:20230923
DTEND;VALUE=DATE:20230924
LOCATION:Trier: Diakonisches Werk Trier
SUMMARY:Unterstützte Entscheidungsfindung :: ganztägig
URL:https://termine.ekir.de/veranstaltung_im_detail719924.html
END:VEVENT
END:VCALENDAR
