BEGIN:VCALENDAR
VERSION:2.0
PRODID:-//evangelische-termine.de//NONSGML kigkonsult.se iCalcreator 2.18//
CALSCALE:GREGORIAN
METHOD:PUBLISH
X-WR-CALNAME:iCal Evangelische-Termine 19.04.2026
X-WR-CALDESC:iCalender von Evangelische-Termine (19.04.2026)
X-WR-TIMEZONE:Europe/Berlin
X-MS-OLK-FORCEINSPECTOROPEN:TRUE
BEGIN:VTIMEZONE
TZID:Europe/Berlin
BEGIN:STANDARD
DTSTART:19701025T030000
TZOFFSETFROM:+0200
TZOFFSETTO:+0100
RRULE:FREQ=YEARLY;BYDAY=-1SU;BYMONTH=10
TZNAME:CET
END:STANDARD
BEGIN:DAYLIGHT
DTSTART:19700329T020000
TZOFFSETFROM:+0100
TZOFFSETTO:+0200
RRULE:FREQ=YEARLY;BYDAY=-1SU;BYMONTH=3
TZNAME:CEST
END:DAYLIGHT
END:VTIMEZONE
BEGIN:VEVENT
UID:20231002T150000-719925@evangelische-termine.de
DTSTAMP:20260419T174320Z
DESCRIPTION:\nKirchenkreis: überregional\nVeranstaltungsort: Haus der Still
 e\nMelsbacher Hohl 5\n56579 Rengsdorf\nKurzbeschreibung / Untertitel: Stil
 le Tage mit Feldenkrais\nAusführliche Beschreibung: In diesen Stillen Tage
 n gehen wir der Frage nach\, was uns Menschen eigentlich zu Menschen macht
 . Wie sind wir in Kontakt mit Gott und seiner Schöpfung\, mit unserem Näch
 sten und mit uns selbst? Was nährt eine Beziehung? Was schadet ihr? Durchg
 ehendes Schweigen\, biblische Impulse\, die Möglichkeit zu Einzelgespräche
 n und tägliche angeleitete Übungen der Feldenkraismethode unterstützen uns
  auf unserem inneren Weg.\nInternetadresse (eigene Infos im Internet): htt
 ps://haus-der-stille.ekir.de/start/start/\nFörderbereich: Sonstiges\nRefer
 ent/in: Eva Manderla und \nBarbara Adler\, Pfarrerin\, Meditationsbegleite
 rin Via Cordis\, GB* / Feldenkraistrainerin\, Trauerbegleiterin\nAnsprechp
 artner/in - Leitung: Haus der Stille Rengsdorf\nKosten: 493\,– € inkl. Unt
 erkunft und Verpflegung\nZusatzinformationen: Anmeldung an\nanmeldung.hds@
 ekir.de\nKursnummer: Kurs 23240
DTSTART;TZID=Europe/Berlin:20231002T150000
DTEND;TZID=Europe/Berlin:20231002T160000
LOCATION:Rengsdorf: Haus der Stille
SUMMARY:Ich-Du-Wir: in Beziehung sein Vom Geschenk des Menschseins :: Still
 e Tage mit Feldenkrais
URL:https://termine.ekir.de/veranstaltung_im_detail719925.html
END:VEVENT
END:VCALENDAR
