BEGIN:VCALENDAR
VERSION:2.0
PRODID:-//evangelische-termine.de//NONSGML kigkonsult.se iCalcreator 2.18//
CALSCALE:GREGORIAN
METHOD:PUBLISH
X-WR-CALNAME:iCal Evangelische-Termine 19.04.2026
X-WR-CALDESC:iCalender von Evangelische-Termine (19.04.2026)
X-WR-TIMEZONE:Europe/Berlin
X-MS-OLK-FORCEINSPECTOROPEN:TRUE
BEGIN:VTIMEZONE
TZID:Europe/Berlin
BEGIN:STANDARD
DTSTART:19701025T030000
TZOFFSETFROM:+0200
TZOFFSETTO:+0100
RRULE:FREQ=YEARLY;BYDAY=-1SU;BYMONTH=10
TZNAME:CET
END:STANDARD
BEGIN:DAYLIGHT
DTSTART:19700329T020000
TZOFFSETFROM:+0100
TZOFFSETTO:+0200
RRULE:FREQ=YEARLY;BYDAY=-1SU;BYMONTH=3
TZNAME:CEST
END:DAYLIGHT
END:VTIMEZONE
BEGIN:VEVENT
UID:20231012T190000-719926@evangelische-termine.de
DTSTAMP:20260419T174244Z
DESCRIPTION:\nKirchenkreis: überregional\nArt der Veranstaltung: Fortbildun
 gen / Seminare / Vorträge\nVeranstaltungsort: Gemeindehaus der Ev. Kirchen
 gemeinde Neuwied\nEngerser Straße 34\n56564 Neuwied\nKurzbeschreibung / Un
 tertitel: Hoffnungsgeschichten aus Israel und Palästina\nAusführliche Besc
 hreibung: 75 Jahre nach der Staatsgründung Israels ist noch lange kein Fri
 eden zwischen Israelis und Palästinensern in Sicht. Inzwischen sind mehrer
 e Generationen auf beiden Seiten mit dem Bewusstsein aufgewachsen: „Die an
 deren wollen nicht\, dass wir in diesem Land leben!“ Wer Verständnis für d
 ie andere Seite zeigt\, sitzt rasch zwischen den Stühlen. Der Referent erz
 ählt von überraschenden Begegnungen mit Palästinensern und Juden\, die das
  Bild vom Feind hinterfragen und ein friedliches Zusammenleben für möglich
  halten.\nFörderbereich: Politische Bildung\nReferent/in: Dr. Rainer Stuhl
 mann\, ev Pfarrer em. aus Köln war von 2011-16 Studienleiter im internatio
 nalen Dorf Nes Ammim in Israel. Er hat 2019/20 für ein Jahr den Propst in 
 Jerusalem vertreten.\nAnsprechpartner/in - Leitung: Deutsch-Israelischer F
 reundeskreis Neuwied\, AK Palästina Neuwied\, Ecumenical Accompaniment Pro
 gramme in Palestine and Israel\, Kath. Kirchengemeinde Neuwied-St. Matthia
 s\, Ev. Kirchengemeinde Neuwied\nKosten: kostenlos\nZusatzinformationen: K
 eine Anmeldung erforderlich
DTSTART;TZID=Europe/Berlin:20231012T190000
DTEND;TZID=Europe/Berlin:20231012T210000
LOCATION:Neuwied: Gemeindehaus der Ev. Kirchengemeinde Neuwied
SUMMARY:Wandel durch Annäherung :: Hoffnungsgeschichten aus Israel und Palä
 stina
URL:https://termine.ekir.de/veranstaltung_im_detail719926.html
END:VEVENT
END:VCALENDAR
