BEGIN:VCALENDAR
VERSION:2.0
PRODID:-//evangelische-termine.de//NONSGML kigkonsult.se iCalcreator 2.18//
CALSCALE:GREGORIAN
METHOD:PUBLISH
X-WR-CALNAME:iCal Evangelische-Termine 19.04.2026
X-WR-CALDESC:iCalender von Evangelische-Termine (19.04.2026)
X-WR-TIMEZONE:Europe/Berlin
X-MS-OLK-FORCEINSPECTOROPEN:TRUE
BEGIN:VTIMEZONE
TZID:Europe/Berlin
BEGIN:STANDARD
DTSTART:19701025T030000
TZOFFSETFROM:+0200
TZOFFSETTO:+0100
RRULE:FREQ=YEARLY;BYDAY=-1SU;BYMONTH=10
TZNAME:CET
END:STANDARD
BEGIN:DAYLIGHT
DTSTART:19700329T020000
TZOFFSETFROM:+0100
TZOFFSETTO:+0200
RRULE:FREQ=YEARLY;BYDAY=-1SU;BYMONTH=3
TZNAME:CEST
END:DAYLIGHT
END:VTIMEZONE
BEGIN:VEVENT
UID:20231102T190000-719927@evangelische-termine.de
DTSTAMP:20260419T174243Z
DESCRIPTION:\nKirchenkreis: überregional\nArt der Veranstaltung: Fortbildun
 gen / Seminare / Vorträge\nVeranstaltungsort: Gemeindehaus der Ev. Kirchen
 gemeinde Neuwied\nEngerser Straße 34\n56564 Neuwied\nKurzbeschreibung / Un
 tertitel: In diesem Vortrag werden die zentralen Schriften Luthers zum Jud
 entum in den Blick genommen.\nAusführliche Beschreibung: Eingebunden in ih
 ren zeitlichen Kontext\, muss auch die Frage nach ihrer politischen Releva
 nz gestellt werden. Welche politischen und kirchlichen Forderungen erhob L
 uther gegenüber Jüdinnen und Juden\, und wie wurden diese bis ins 20. Jahr
 hundert hinein rezipiert?\nMartin Luther zählte nicht nur zu den einflussr
 eichsten Theologen in der Frühen Neuzeit\, er befasste sich auch über zwei
  Jahrzehnte hinweg mit dem jüdischen Glauben. 1523\, genau vor 500 Jahren 
 verfasste er seine Schrift „Das Jesus Christus ein geborener Jude sei“\, i
 n der er sich gegenüber dem Judentum sehr aufgeschlossen zeigte\, während 
 in seinen späteren Aussagen Gegnerschaft und Enttäuschung überwogen.\nFörd
 erbereich: Religiöse Bildung\, Religionen\, Theologie\, Ethik\, Grenzfrage
 n\nReferent/in: Prof. Dr. Andreas Mühling (Trier) leitet das Ökumenische I
 nstitut an der Universität Trier und ist Vorsitzender des Vereins für Rhei
 nische Kirchengeschichte\nAnsprechpartner/in - Leitung: Deutsch-Israelisch
 er Freundeskreis Neuwied\, AK Palästina Neuwied\, Ecumenical Accompaniment
  Programme in Palestine and Israel\, Kath. Kirchengemeinde Neuwied-St. Mat
 thias\, Ev. Kirchengemeinde Neuwied\nKosten: kostenlos\nZusatzinformatione
 n: Parallel zum Vortrag beginnt um 18.00 Uhr beginnt Ausstellungseröffnung
 : \n„Ertragen können wir sie nicht!“ – Martin Luther und die Juden\n\nEine
  Anmeldung ist nicht erforderlich
DTSTART;TZID=Europe/Berlin:20231102T190000
DTEND;TZID=Europe/Berlin:20231102T210000
LOCATION:Neuwied: Gemeindehaus der Ev. Kirchengemeinde Neuwied
SUMMARY:Die Judenschriften Martin Luthers :: In diesem Vortrag werden die z
 entralen Schriften Luthers zum Judentum in den Blick genommen.
URL:https://termine.ekir.de/veranstaltung_im_detail719927.html
END:VEVENT
END:VCALENDAR
