BEGIN:VCALENDAR
VERSION:2.0
PRODID:-//evangelische-termine.de//NONSGML kigkonsult.se iCalcreator 2.18//
CALSCALE:GREGORIAN
METHOD:PUBLISH
X-WR-CALNAME:iCal Evangelische-Termine 19.04.2026
X-WR-CALDESC:iCalender von Evangelische-Termine (19.04.2026)
X-WR-TIMEZONE:Europe/Berlin
X-MS-OLK-FORCEINSPECTOROPEN:TRUE
BEGIN:VTIMEZONE
TZID:Europe/Berlin
BEGIN:STANDARD
DTSTART:19701025T030000
TZOFFSETFROM:+0200
TZOFFSETTO:+0100
RRULE:FREQ=YEARLY;BYDAY=-1SU;BYMONTH=10
TZNAME:CET
END:STANDARD
BEGIN:DAYLIGHT
DTSTART:19700329T020000
TZOFFSETFROM:+0100
TZOFFSETTO:+0200
RRULE:FREQ=YEARLY;BYDAY=-1SU;BYMONTH=3
TZNAME:CEST
END:DAYLIGHT
END:VTIMEZONE
BEGIN:VEVENT
UID:20231201T180000-719928@evangelische-termine.de
DTSTAMP:20260419T192617Z
DESCRIPTION:\nKirchenkreis: überregional\nArt der Veranstaltung: Fortbildun
 gen / Seminare / Vorträge\nVeranstaltungsort: Haus der Stille\nMelsbacher 
 Hohl 5\n56579 Rengsdorf\nKurzbeschreibung / Untertitel: Stille Tage im Adv
 ent\nAusführliche Beschreibung: Stille Tage auf Weihnachten zu\, mit angel
 eiteten Körperübungen und inneren Bildern\, um bei sich selber\, bei der e
 igenen Sehnsucht und bei Gott anzukommen. Auf Wunsch sind Einzelgespräche 
 möglich.\nInternetadresse (eigene Infos im Internet): https://haus-der-sti
 lle.ekir.de/start/start/\nFörderbereich: Sonstiges\nReferent/in: Psychiate
 rin\, Psychotherapeutin\, GB\, Meditationsbegleiterin VIA Cordis\, Prädika
 ntin: Esther Sühling\nPfarrerin\, Kontemplationslehrerin VIA Cordis\, GB: 
 Dagmar Spelsberg-Sühling\n\nAnsprechpartner/in - Leitung: Haus der Stille 
 Rengsdorf\nKosten: 269\,– € inkl. Unterkunft und Verpflegung\nZusatzinform
 ationen: Anmeldung an\nanmeldung.hds@ekir.de\nKursnummer: Kurs 23248
DTSTART;TZID=Europe/Berlin:20231201T180000
DTEND;TZID=Europe/Berlin:20231201T190000
LOCATION:Rengsdorf: Haus der Stille
SUMMARY:Atem holen im Advent :: Stille Tage im Advent
URL:https://termine.ekir.de/veranstaltung_im_detail719928.html
END:VEVENT
END:VCALENDAR
