BEGIN:VCALENDAR
VERSION:2.0
PRODID:-//evangelische-termine.de//NONSGML kigkonsult.se iCalcreator 2.18//
CALSCALE:GREGORIAN
METHOD:PUBLISH
X-WR-CALNAME:iCal Evangelische-Termine 19.04.2026
X-WR-CALDESC:iCalender von Evangelische-Termine (19.04.2026)
X-WR-TIMEZONE:Europe/Berlin
X-MS-OLK-FORCEINSPECTOROPEN:TRUE
BEGIN:VTIMEZONE
TZID:Europe/Berlin
BEGIN:STANDARD
DTSTART:19701025T030000
TZOFFSETFROM:+0200
TZOFFSETTO:+0100
RRULE:FREQ=YEARLY;BYDAY=-1SU;BYMONTH=10
TZNAME:CET
END:STANDARD
BEGIN:DAYLIGHT
DTSTART:19700329T020000
TZOFFSETFROM:+0100
TZOFFSETTO:+0200
RRULE:FREQ=YEARLY;BYDAY=-1SU;BYMONTH=3
TZNAME:CEST
END:DAYLIGHT
END:VTIMEZONE
BEGIN:VEVENT
UID:20230828T150000-719929@evangelische-termine.de
DTSTAMP:20260419T155652Z
DESCRIPTION:\nKirchenkreis: überregional\nArt der Veranstaltung: Fortbildun
 gen / Seminare / Vorträge\nVeranstaltungsort: Haus der Stille\nMelsbacher 
 Hohl 5\n56579 Rengsdorf\nKurzbeschreibung / Untertitel: Sieben stille Tage
  im Spätsommer\nAusführliche Beschreibung: Zeit\, die Fülle des Lebens um 
 uns herum wahrzunehmen und uns bewusst zu werden\, dass wir ein Teil des g
 roßen Ganzen sind. Abhängig – und verantwortlich. Voller Angst und Verzagt
 heit – und durchströmt von Dankbarkeit. Übervoll – und verzweifelt bedürft
 ig. Wir wollen uns den Fragen des Schalom in der Schöpfung stellen und dar
 aus neue Hoffnung und Kraft gewinnen. An sieben Tagen kann jede*r Teilnehm
 ende sich im Schweigen öffnen für das\, was ihr/ihm gegeben wird. Neben de
 n Tagzeitengebeten und geistlichen Impulsen\, kreativer Beschäftigung und 
 Einzelgesprächen gehören das Sitzen in der Stille und Übungen zur Körperwa
 hrnehmung zur festen Struktur des Kurses. Vorkenntnisse sind nicht erforde
 rlich.\nInternetadresse (eigene Infos im Internet): https://haus-der-still
 e.ekir.de/start/start/\nFörderbereich: Sonstiges\nReferent/in: Pfarrer i.R
 .\, GB*: Christian Sandner\nGemeindepädagogin: Ulrike Sandner\n\nAnsprechp
 artner/in - Leitung: Haus der Stille Rengsdorf\nKosten: 748\,– € inkl. Unt
 erkunft und Verpflegung\nZusatzinformationen: Anmeldung an\nanmeldung.hds@
 ekir.de\nKursnummer: Kurs 23235
DTSTART;TZID=Europe/Berlin:20230828T150000
DTEND;TZID=Europe/Berlin:20230903T140000
LOCATION:Rengsdorf: Haus der Stille
SUMMARY:Zufrieden-Sein ist große Kunst … dass sie das Leben und volle Genüg
 e haben sollen.‘ (Joh 10) :: Sieben stille Tage im Spätsommer
URL:https://termine.ekir.de/veranstaltung_im_detail719929.html
END:VEVENT
END:VCALENDAR
