BEGIN:VCALENDAR
VERSION:2.0
PRODID:-//evangelische-termine.de//NONSGML kigkonsult.se iCalcreator 2.18//
CALSCALE:GREGORIAN
METHOD:PUBLISH
X-WR-CALNAME:iCal Evangelische-Termine 19.04.2026
X-WR-CALDESC:iCalender von Evangelische-Termine (19.04.2026)
X-WR-TIMEZONE:Europe/Berlin
X-MS-OLK-FORCEINSPECTOROPEN:TRUE
BEGIN:VTIMEZONE
TZID:Europe/Berlin
BEGIN:STANDARD
DTSTART:19701025T030000
TZOFFSETFROM:+0200
TZOFFSETTO:+0100
RRULE:FREQ=YEARLY;BYDAY=-1SU;BYMONTH=10
TZNAME:CET
END:STANDARD
BEGIN:DAYLIGHT
DTSTART:19700329T020000
TZOFFSETFROM:+0100
TZOFFSETTO:+0200
RRULE:FREQ=YEARLY;BYDAY=-1SU;BYMONTH=3
TZNAME:CEST
END:DAYLIGHT
END:VTIMEZONE
BEGIN:VEVENT
UID:20231128T180000-719930@evangelische-termine.de
DTSTAMP:20260419T192616Z
DESCRIPTION:\nKirchenkreis: überregional\nArt der Veranstaltung: Fortbildun
 gen / Seminare / Vorträge\nVeranstaltungsort: online\n- -\nKurzbeschreibun
 g / Untertitel: „Sinnfluenced“ - spirituelle Lebenshilfe im digitalen Raum
 \nAusführliche Beschreibung: Persönliche Weiterentwicklung\, innere Ruhe\,
  spirituelles Empowerment – und dazu ansprechende Bilder von schönen Mensc
 hen\, anregende Podcasts und Achtsamkeits-Apps. Gerade im Netz finden wir 
 unzählige spirituelle Coaches und „Sinnfluencerinnen“\, die in kostenpflic
 htigen und zunehmend digitalen Formaten einen Zugang zu erfahrungsbezogene
 r Spiritualität\, erhöhter Selbstwirksamkeit und besonderer Transzendenzer
 fahrung auf Knopfdruck anbieten. Aber gehen spirituelle Praxis\, persönlic
 he Selbstoptimierung und Kommerzialisierung zusammen? Und wie funktioniert
  Spiritualität ohne Gemeinschaft und dafür vor dem Bildschirm? Die Veranst
 altung will eben diesen Fragen rund um gegenwärtige Formen von Spiritualit
 ät online / offline nachgehen und sie mit den Teilnehmenden diskutieren.\n
 Förderbereich: Religiöse Bildung\, Religionen\, Theologie\, Ethik\, Grenzf
 ragen\nReferent/in: Dr. Claudia Jetter\, wissenschaftliche Referentin der 
 ev. Zentralstelle für Weltanschauungsfragen in Berlin\nAnsprechpartner/in 
 - Leitung: Carola Schick Bildungsreferentin im eeb\nKosten: kostenlos\nZus
 atzinformationen: Anmeldung bis zum 21.11.2023\n: 
DTSTART;TZID=Europe/Berlin:20231128T180000
DTEND;TZID=Europe/Berlin:20231128T200000
LOCATION:-: online
SUMMARY:Spiritualität to-go – „individualisierte“ Lebenshilfe von 'Sinnflue
 ncern'? :: „Sinnfluenced“ - spirituelle Lebenshilfe im digitalen Raum
URL:https://termine.ekir.de/veranstaltung_im_detail719930.html
END:VEVENT
END:VCALENDAR
