BEGIN:VCALENDAR
VERSION:2.0
PRODID:-//evangelische-termine.de//NONSGML kigkonsult.se iCalcreator 2.18//
CALSCALE:GREGORIAN
METHOD:PUBLISH
X-WR-CALNAME:iCal Evangelische-Termine 21.04.2026
X-WR-CALDESC:iCalender von Evangelische-Termine (21.04.2026)
X-WR-TIMEZONE:Europe/Berlin
X-MS-OLK-FORCEINSPECTOROPEN:TRUE
BEGIN:VTIMEZONE
TZID:Europe/Berlin
BEGIN:STANDARD
DTSTART:19701025T030000
TZOFFSETFROM:+0200
TZOFFSETTO:+0100
RRULE:FREQ=YEARLY;BYDAY=-1SU;BYMONTH=10
TZNAME:CET
END:STANDARD
BEGIN:DAYLIGHT
DTSTART:19700329T020000
TZOFFSETFROM:+0100
TZOFFSETTO:+0200
RRULE:FREQ=YEARLY;BYDAY=-1SU;BYMONTH=3
TZNAME:CEST
END:DAYLIGHT
END:VTIMEZONE
BEGIN:VEVENT
UID:20230912T133000-719933@evangelische-termine.de
DTSTAMP:20260421T125334Z
DESCRIPTION:\nKirchenkreis: überregional\nArt der Veranstaltung: Fortbildun
 gen / Seminare / Vorträge\nVeranstaltungsort: online\n- -\nKurzbeschreibun
 g / Untertitel: Die Gestaltungsplattform „Canva“ und ihr Möglichkeiten ken
 nenlernen.\nAusführliche Beschreibung: Viele von uns denken beim Gestalten
  von Grafiken an teure Programme\, die erstmal kompliziert und schwer zu e
 rlernen scheinen. Canva ist ein einfaches Online-Programm\, mit dem sich s
 chnell und intuitiv Grafiken für die unterschiedlichen sozialen Medien wie
  Facebook\, Instagram oder YouTube erstellen oder Flyer bearbeiten lassen.
 \n\nIn unserem kostenfreien Online-Workshop möchten wir Ihnen zeigen welch
 e Möglichkeiten Canva zu bieten hat. Außerdem werden Sie die Gelegenheit h
 aben\, diese auch selbst auszuprobieren und erste eigene Grafikprojekte zu
  erstellen.\n\nEinstellungen zur Barrierefreiheit:\nWir nutzen die Videoko
 nferenzsoftware Zoom. Wie Zoom funktioniert\, erfahren Sie über den Anmeld
 elink der elag.\n\nMit dieser Software lässt sich die Schriftgröße im Chat
  anpassen. Wenn Sie durch Gebärdendolmetscher*innen bei der Teilnahme unte
 rstützt werden\, können Sie mit Zoom Ihre Ansicht entsprechend anpassen.\n
 Internetadresse (eigene Infos im Internet): https://elag.de/wie-geht-eigen
 tlich-canva/\nFörderbereich: Technik\, Technologien\, Medien\nReferent/in:
  Christian Gisinger (ELAG) und Carola Schick (eeb)\nAnsprechpartner/in - L
 eitung: Carola Schick\nKosten: kostenlos\nZusatzinformationen: Anmeldung u
 nter https://elag.de/wie-geht-eigentlich-canva/
DTSTART;TZID=Europe/Berlin:20230912T133000
DTEND;TZID=Europe/Berlin:20230912T153000
LOCATION:-: online
SUMMARY:Wie geht eigentlich … Canva? :: Die Gestaltungsplattform „Canva“ un
 d ihr Möglichkeiten kennenlernen.
URL:https://termine.ekir.de/veranstaltung_im_detail719933.html
END:VEVENT
END:VCALENDAR
