BEGIN:VCALENDAR
VERSION:2.0
PRODID:-//evangelische-termine.de//NONSGML kigkonsult.se iCalcreator 2.18//
CALSCALE:GREGORIAN
METHOD:PUBLISH
X-WR-CALNAME:iCal Evangelische-Termine 19.04.2026
X-WR-CALDESC:iCalender von Evangelische-Termine (19.04.2026)
X-WR-TIMEZONE:Europe/Berlin
X-MS-OLK-FORCEINSPECTOROPEN:TRUE
BEGIN:VTIMEZONE
TZID:Europe/Berlin
BEGIN:STANDARD
DTSTART:19701025T030000
TZOFFSETFROM:+0200
TZOFFSETTO:+0100
RRULE:FREQ=YEARLY;BYDAY=-1SU;BYMONTH=10
TZNAME:CET
END:STANDARD
BEGIN:DAYLIGHT
DTSTART:19700329T020000
TZOFFSETFROM:+0100
TZOFFSETTO:+0200
RRULE:FREQ=YEARLY;BYDAY=-1SU;BYMONTH=3
TZNAME:CEST
END:DAYLIGHT
END:VTIMEZONE
BEGIN:VEVENT
UID:20230928T190000-720059@evangelische-termine.de
DTSTAMP:20260419T173100Z
DESCRIPTION:\nKirchenkreis: überregional\nArt der Veranstaltung: Fortbildun
 gen / Seminare / Vorträge\nVeranstaltungsort: online\n- -\nKurzbeschreibun
 g / Untertitel: Wenn das Netz als Abgrenzungsraum genutzt wird.\nAusführli
 che Beschreibung: Mobbing ist lange schon kein Problem\, das ausschließlic
 h auf Schulhöfen\, dem Arbeitsplatz oder in geschlossenen Gruppen stattfin
 det. Durch digitale Medien und Internetplattformen\, wie Facebook\, WhatsA
 pp oder TikTok finden „Mobber“ und „Trolle*“ heute eine öffentliche Bühne\
 , die durch die scheinbare Anonymität als geschützter Raum wahrgenommen wi
 rd.\n\nIn unserer Vortragsveranstaltung „Cybermobbing – Wenn das Netz als 
 Abgrenzungsraum benutzt wird“ möchten wir\, Severino Ferreira da Silva und
  Christian Gisinger\, euch verschiedene Schauplätze des Cybermobbings zeig
 en und gemeinsam mit euch in den Austausch gehen. Außerdem werden wir uns 
 die Besonderheiten alltäglicher Konflikte ansehen und sie mit Konflikten i
 m Netz vergleichen. Ziel ist es das Phänomen „Cybermobbing“ näher kennenzu
 lernen und gegebenenfalls Tipps für einen adäquaten Umgang mit diesem zu e
 rhalten.\n\n* Trolle werden im Internetwortschatz als Personen bezeichnet\
 , die absichtlich Gespräche in Foren\, Chats oder ähnlichem stören und bel
 eidigen\, um Reaktionen von anderen zu provozieren.\n\nEinstellungen zur B
 arrierefreiheit:\n\nWir nutzen die Videokonferenzsoftware Zoom. Wie Zoom f
 unktioniert\, erfahren Sie hier. Mit dieser Software lässt sich die Schrif
 tgröße im Chat anpassen. Wir werden während der Veranstaltung den Teilnehm
 enden die Präsentation über Bildschirmfreigabe zur Verfügung stellen. Fall
 s Sie zur Nutzung eines Screenreaders die Präsentation im Vorfeld benötige
 n\, sprechen Sie uns bitte an. Wenn Sie durch Gebärdendolmetscher*innen be
 i der Teilnahme unterstützt werden\, können Sie mit Zoom Ihre Ansicht ents
 prechend anpassen.\nInternetadresse (eigene Infos im Internet): https://el
 ag.de/cybermobbing/\nFörderbereich: Abschluss- und schulabschlussbezogene 
 Bildung\nReferent/in: Christian Gisinger (ELAG) & Severino Ferreira da Sil
 va (Ev. Arbeitsstelle Bildung und Gesellschaft)\nAnsprechpartner/in - Leit
 ung: Christian Gisinger (ELAG)\nKosten: kostenlos\nZusatzinformationen: Ei
 n Kooperationsprojekt der ELAG\, der Ev. Arbeitsstelle Bildung und Gesells
 chaft\, des Ev. Erwachsenenbildungswerk Rheinland-Süd\nAnsprechpartner: Ch
 ristian Gisinger christian.gisinger@elag.de
DTSTART;TZID=Europe/Berlin:20230928T190000
DTEND;TZID=Europe/Berlin:20230928T210000
LOCATION:-: online
SUMMARY:Cybermobbing :: Wenn das Netz als Abgrenzungsraum genutzt wird.
URL:https://termine.ekir.de/veranstaltung_im_detail720059.html
END:VEVENT
END:VCALENDAR
