BEGIN:VCALENDAR
VERSION:2.0
PRODID:-//evangelische-termine.de//NONSGML kigkonsult.se iCalcreator 2.18//
CALSCALE:GREGORIAN
METHOD:PUBLISH
X-WR-CALNAME:iCal Evangelische-Termine 19.04.2026
X-WR-CALDESC:iCalender von Evangelische-Termine (19.04.2026)
X-WR-TIMEZONE:Europe/Berlin
X-MS-OLK-FORCEINSPECTOROPEN:TRUE
BEGIN:VTIMEZONE
TZID:Europe/Berlin
BEGIN:STANDARD
DTSTART:19701025T030000
TZOFFSETFROM:+0200
TZOFFSETTO:+0100
RRULE:FREQ=YEARLY;BYDAY=-1SU;BYMONTH=10
TZNAME:CET
END:STANDARD
BEGIN:DAYLIGHT
DTSTART:19700329T020000
TZOFFSETFROM:+0100
TZOFFSETTO:+0200
RRULE:FREQ=YEARLY;BYDAY=-1SU;BYMONTH=3
TZNAME:CEST
END:DAYLIGHT
END:VTIMEZONE
BEGIN:VEVENT
UID:20231110T100000-720073@evangelische-termine.de
DTSTAMP:20260419T192644Z
DESCRIPTION:\nKirchenkreis: überregional\nArt der Veranstaltung: Fortbildun
 gen / Seminare / Vorträge\nVeranstaltungsort: Ev. Arbeitsstelle Bildung un
 d Gesellschaft Kaiserslautern\nUnionstraße 1\n67657 Kaiserslautern\nKurzbe
 schreibung / Untertitel: Video- und Tonschleifen schneiden lernen für die 
 Öffentlichkeitsarbeit\nAusführliche Beschreibung: „Was braucht es zur Vorb
 ereitung eines Videobeitrages?”\n„Was ist während des Drehs zu beachten?” 
 \n“Was brauche ich für den Videoschnitt?”\n\nMit diesen Fragen befassen wi
 r uns im November im Heinz-Wilhelmy-Haus in Kaiserslautern in unserem Tage
 sworkshop. Sabine Keller (SWR) erklärt die notwendigen Planungsschritte vo
 n Videoprojekten. Danach wird es praktisch. In Kleingruppen filmen wir eig
 ene Videointerviews und schneiden diese\n\nDas Heinz-Wilhelmy-Haus ist bar
 rierefrei und mit öffentlichen Verkehrsmitteln erreichbar. Falls Sie wegen
  einer Beeinträchtigung mit einer Begleitperson kommen oder einen besonder
 en Bedarf an unseren Tagungsraum oder uns haben\, vermerken Sie dies bitte
  im Nachrichtenfeld des Anmeldeformulars unter\nhttps://elag.de/videoschni
 tt-kurzfilme-planen-drehen-schneiden-lernen-fuer-die-oeffentlichkeitsarbei
 t/\nInternetadresse (eigene Infos im Internet): https://elag.de/videoschni
 tt-kurzfilme-planen-drehen-schneiden-lernen-fuer-die-oeffentlichkeitsarbei
 t/\nFörderbereich: Technik\, Technologien\, Medien\nReferent/in: Frau Kell
 er\, SWR\, \nChristian Gisinger (ELAG) und \nSeverino Ferreira da Silva (E
 v. Arbeitsstelle Bildung und Gesellschaft)\nAnsprechpartner/in - Leitung: 
 Christian Gisinger\nKosten: kostenlos\nZusatzinformationen: Anmeldung unte
 r https://elag.de/videoschnitt-kurzfilme-planen-drehen-schneiden-lernen-fu
 er-die-oeffentlichkeitsarbeit/\nKooperationsprojekt der ELAG\, der Ev. Arb
 eitsstelle Bildung und Gesellschaft\, \ndes Ev. Erwachsenenbildungswerk Rh
 einland-Süd
DTSTART;TZID=Europe/Berlin:20231110T100000
DTEND;TZID=Europe/Berlin:20231110T160000
LOCATION:Kaiserslautern: Ev. Arbeitsstelle Bildung und Gesellschaft Kaisers
 lautern
SUMMARY:Videoschnitt –  Kurzfilme planen\, drehen\, schneiden lernen für di
 e Öffentlichkeitsarbeit :: Video- und Tonschleifen schneiden lernen für di
 e Öffentlichkeitsarbeit
URL:https://termine.ekir.de/veranstaltung_im_detail720073.html
END:VEVENT
END:VCALENDAR
