BEGIN:VCALENDAR
VERSION:2.0
PRODID:-//evangelische-termine.de//NONSGML kigkonsult.se iCalcreator 2.18//
CALSCALE:GREGORIAN
METHOD:PUBLISH
X-WR-CALNAME:iCal Evangelische-Termine 19.04.2026
X-WR-CALDESC:iCalender von Evangelische-Termine (19.04.2026)
X-WR-TIMEZONE:Europe/Berlin
X-MS-OLK-FORCEINSPECTOROPEN:TRUE
BEGIN:VTIMEZONE
TZID:Europe/Berlin
BEGIN:STANDARD
DTSTART:19701025T030000
TZOFFSETFROM:+0200
TZOFFSETTO:+0100
RRULE:FREQ=YEARLY;BYDAY=-1SU;BYMONTH=10
TZNAME:CET
END:STANDARD
BEGIN:DAYLIGHT
DTSTART:19700329T020000
TZOFFSETFROM:+0100
TZOFFSETTO:+0200
RRULE:FREQ=YEARLY;BYDAY=-1SU;BYMONTH=3
TZNAME:CEST
END:DAYLIGHT
END:VTIMEZONE
BEGIN:VEVENT
UID:20231018T190000-720074@evangelische-termine.de
DTSTAMP:20260419T173028Z
DESCRIPTION:\nKirchenkreis: überregional\nArt der Veranstaltung: Fortbildun
 gen / Seminare / Vorträge\nVeranstaltungsort: online\n- -\nKurzbeschreibun
 g / Untertitel: Hatespeech – Hassrede im Internet. Sie beleidigt\, diskrim
 iniert\, grenzt aus und erniedrigt durch schriftliche\, symbolische oder b
 ildhafte Kommentare.\nAusführliche Beschreibung: Sie verletzt Betroffene\,
  sie verändert das Miteinander in unserer Gesellschaft und gefährdet unser
 e Menschenrechte.\n\nMit dieser Info- und Diskussionsveranstaltung wollen 
 wir sensibilisieren\, welche Möglichkeiten es gibt\, aktiv gegen Hatespeec
 h im Internet einzutreten und uns gegenseitig zu unterstützen.\n\nTriggerw
 arnung:\n\nBei der Veranstaltung können zu Übungszwecken der digitalen Ziv
 ilcourage diskriminierende Kommentare dargestellt werden. Wenn Sie trotzde
 m die Möglichkeiten der digitalen Zivilcourage kennenlernen möchten\, halt
 en Sie auf unserer Homepage und unseren Auftritten in den sozialen Medien 
 Ausschau nach den entsprechenden Tipps und Checklisten etc.\n\nEinstellung
 en zur Barrierefreiheit:\n\nWir nutzen die Videokonferenzsoftware Zoom. Wi
 e Zoom funktioniert\, erfahren Sie hier. Mit dieser Software lässt sich di
 e Schriftgröße im Chat anpassen. Wir werden während der Veranstaltung den 
 Teilnehmenden die Präsentation über Bildschirmfreigabe zur Verfügung stell
 en. Falls Sie zur Nutzung eines Screenreaders die Präsentation im Vorfeld 
 benötigen\, sprechen Sie uns bitte an. Wenn Sie durch Gebärdendolmetscher*
 innen bei der Teilnahme unterstützt werden\, können Sie mit Zoom Ihre Ansi
 cht entsprechend anpassen.\nInternetadresse (eigene Infos im Internet): ht
 tps://elag.de/trau-dich-durchs-netz-digitale-zivilcourage/\nFörderbereich:
  Politische Bildung\nReferent/in: Christian Gisinger (ELAG) und\nSilke Sch
 eidel (Ev. Arbeitsstelle Bildung und Gesellschaft)\nAnsprechpartner/in - L
 eitung: Christian Gisinger\nKosten: kostenlos\nZusatzinformationen: Anmeld
 ung unter https://elag.de/trau-dich-durchs-netz-digitale-zivilcourage/\nAn
 sprechpartner: Christian Gisinger christian.gisinger@elag.de
DTSTART;TZID=Europe/Berlin:20231018T190000
DTEND;TZID=Europe/Berlin:20231018T210000
LOCATION:-: online
SUMMARY:Trau' dich durchs Netz – Digitale Zivilcourage :: Hatespeech – Hass
 rede im Internet. Sie beleidigt\, diskriminiert\, grenzt aus und erniedrig
 t durch schriftliche\, symbolische oder bildhafte Kommentare.
URL:https://termine.ekir.de/veranstaltung_im_detail720074.html
END:VEVENT
END:VCALENDAR
