BEGIN:VCALENDAR
VERSION:2.0
PRODID:-//evangelische-termine.de//NONSGML kigkonsult.se iCalcreator 2.18//
CALSCALE:GREGORIAN
METHOD:PUBLISH
X-WR-CALNAME:iCal Evangelische-Termine 19.04.2026
X-WR-CALDESC:iCalender von Evangelische-Termine (19.04.2026)
X-WR-TIMEZONE:Europe/Berlin
X-MS-OLK-FORCEINSPECTOROPEN:TRUE
BEGIN:VTIMEZONE
TZID:Europe/Berlin
BEGIN:STANDARD
DTSTART:19701025T030000
TZOFFSETFROM:+0200
TZOFFSETTO:+0100
RRULE:FREQ=YEARLY;BYDAY=-1SU;BYMONTH=10
TZNAME:CET
END:STANDARD
BEGIN:DAYLIGHT
DTSTART:19700329T020000
TZOFFSETFROM:+0100
TZOFFSETTO:+0200
RRULE:FREQ=YEARLY;BYDAY=-1SU;BYMONTH=3
TZNAME:CEST
END:DAYLIGHT
END:VTIMEZONE
BEGIN:VEVENT
UID:20231107T093000-720076@evangelische-termine.de
DTSTAMP:20260419T192644Z
DESCRIPTION:\nKirchenkreis: überregional\nArt der Veranstaltung: Fortbildun
 gen / Seminare / Vorträge\nVeranstaltungsort: online\n- -\nKurzbeschreibun
 g / Untertitel: Mit Hilfe von Affinity Publisher\, den Gemeindebrief in kl
 einen Schritten aufbauen oder neu gestalten um effektiver und schneller de
 n Inhalt immer wieder einzupflegen.\nAusführliche Beschreibung: Affinity P
 ublisher von Serif ist ein vollumfängliches Layoutprogramm\, dass alle Mög
 lichkeiten zur Layout-Erstellung mit Text und Bildern liefert.\nZum Einsti
 eg werden wir uns mit der Dokumentanlage und den Werkzeugen beschäftigen.
 \nBildplatzierungen und Texte in Spalten anlegen.\nDie Veranstaltung baut 
 auf eine Reihe weiterer Online-Veranstaltungen auf.\nZiel ist die komplett
 e Druckdatenerstellung des eigene Gemeindebriefs.\nFörderbereich: Arbeitsw
 elt- und berufsbezogene Weiterbildung\nReferent/in: Carola Schick\, Bildun
 gsreferentin im Web\nAnsprechpartner/in - Leitung: Carola Schick\nKosten: 
 50\,– €\nZusatzinformationen: Anmeldung bis 31.10.2023\n: \nAnsprechpartne
 r: Carola Schick eeb-sued@eeb-sued.de
DTSTART;TZID=Europe/Berlin:20231107T093000
DTEND;TZID=Europe/Berlin:20231107T123000
LOCATION:-: online
SUMMARY:Den Gemeindebrief gestalten mit Affinity Publisher – vom Layout bis
  zur fertigen Druckdatei :: Mit Hilfe von Affinity Publisher\, den Gemeind
 ebrief in kleinen Schritten aufbauen oder neu gestalten um effektiver und 
 schneller den Inhalt immer wied
URL:https://termine.ekir.de/veranstaltung_im_detail720076.html
END:VEVENT
END:VCALENDAR
