BEGIN:VCALENDAR
VERSION:2.0
PRODID:-//evangelische-termine.de//NONSGML kigkonsult.se iCalcreator 2.18//
CALSCALE:GREGORIAN
METHOD:PUBLISH
X-WR-CALNAME:iCal Evangelische-Termine 19.04.2026
X-WR-CALDESC:iCalender von Evangelische-Termine (19.04.2026)
X-WR-TIMEZONE:Europe/Berlin
X-MS-OLK-FORCEINSPECTOROPEN:TRUE
BEGIN:VTIMEZONE
TZID:Europe/Berlin
BEGIN:STANDARD
DTSTART:19701025T030000
TZOFFSETFROM:+0200
TZOFFSETTO:+0100
RRULE:FREQ=YEARLY;BYDAY=-1SU;BYMONTH=10
TZNAME:CET
END:STANDARD
BEGIN:DAYLIGHT
DTSTART:19700329T020000
TZOFFSETFROM:+0100
TZOFFSETTO:+0200
RRULE:FREQ=YEARLY;BYDAY=-1SU;BYMONTH=3
TZNAME:CEST
END:DAYLIGHT
END:VTIMEZONE
BEGIN:VEVENT
UID:20231116T090000-720201@evangelische-termine.de
DTSTAMP:20260419T192607Z
DESCRIPTION:\nKirchenkreis: überregional\nKurzbeschreibung / Untertitel: Ve
 rtiefender Überblick über die Funktionen und Nutzungsmöglichkeiten  der Da
 tenbank\nAusführliche Beschreibung: In diesem Online-Seminar erhalten Sie 
 weiterführende Hinweise zu den einzelnen \nFunktionen und Module der Melde
 wesendatenbank Mewis-NT. Neben Tipps und Tricks wird auch der kollegiale A
 ustausch eine wichtige Rolle spielen.\nInternetadresse (eigene Infos im In
 ternet): http://www.eeb-sued.de\nFörderbereich: Arbeitswelt- und berufsbez
 ogene Weiterbildung\nReferent/in: Kirsten Arnswald\nAnsprechpartner/in - L
 eitung: Kirsten Arnswald\nKosten: 50\,00 €\nZusatzinformationen: Anmeldesc
 hluss ist der 9.11.2023.\nNach Anmeldeschluss erhalten Sie einen Zugangsli
 nk per Mail.\n: \nAnsprechpartner: Kirsten Arnswald karnswald@eeb-sued.de
 \n06761/7019
DTSTART;TZID=Europe/Berlin:20231116T090000
DTEND;TZID=Europe/Berlin:20231116T130000
LOCATION:Internet: nur Internet
SUMMARY:MEWIS-NT für Fortgeschrittene :: Vertiefender Überblick über die Fu
 nktionen und  Nutzungsmöglichkeiten der Datenbank
URL:https://termine.ekir.de/veranstaltung_im_detail720201.html
END:VEVENT
END:VCALENDAR
