BEGIN:VCALENDAR
VERSION:2.0
PRODID:-//evangelische-termine.de//NONSGML kigkonsult.se iCalcreator 2.18//
CALSCALE:GREGORIAN
METHOD:PUBLISH
X-WR-CALNAME:iCal Evangelische-Termine 19.04.2026
X-WR-CALDESC:iCalender von Evangelische-Termine (19.04.2026)
X-WR-TIMEZONE:Europe/Berlin
X-MS-OLK-FORCEINSPECTOROPEN:TRUE
BEGIN:VTIMEZONE
TZID:Europe/Berlin
BEGIN:STANDARD
DTSTART:19701025T030000
TZOFFSETFROM:+0200
TZOFFSETTO:+0100
RRULE:FREQ=YEARLY;BYDAY=-1SU;BYMONTH=10
TZNAME:CET
END:STANDARD
BEGIN:DAYLIGHT
DTSTART:19700329T020000
TZOFFSETFROM:+0100
TZOFFSETTO:+0200
RRULE:FREQ=YEARLY;BYDAY=-1SU;BYMONTH=3
TZNAME:CEST
END:DAYLIGHT
END:VTIMEZONE
BEGIN:VEVENT
UID:20231021T140000-720210@evangelische-termine.de
DTSTAMP:20260419T173101Z
DESCRIPTION:\nKirchenkreis: überregional\nArt der Veranstaltung: Fortbildun
 gen / Seminare / Vorträge\nVeranstaltungsort: Wildnis-Werkstatt Weltenbaum
 \nEcke Dhaunerstr./Brunnenstraße\n55606 Oberhausen\nKurzbeschreibung / Unt
 ertitel: Wiederbeleben der Sinne...\nAusführliche Beschreibung: Es geht um
  das Wiederbeleben unserer Sinne\, um Lebendigkeit\, um das Entfachen des 
 Feuers der Neugierde\, um eine intensive Zeit draußen und um ganz viel Spa
 ß.\nFörderbereich: Lebensgestaltende Bildung\, Existenzfragen\, einschließ
 lich der Bereiche der soz. u.. interkulturellen Beziehungen\nReferent/in: 
 Alexandra Fey\, Heike Zerfaß\, Erzieherinnen\, Walderzieherinnen\, Wildnis
 pädagoginnen\nAnsprechpartner/in - Leitung: Heike Zerfaß\nKosten: 20\,– € 
 ohne Verpflegung\nZusatzinformationen: Anmeldung bis 13.10.2023\n: \nAnspr
 echpartner: Carola Schick eeb-sued@eeb-sued.de
DTSTART;TZID=Europe/Berlin:20231021T140000
DTEND;TZID=Europe/Berlin:20231021T180000
LOCATION:Oberhausen: Wildnis-Werkstatt Weltenbaum
SUMMARY:Wilde Spiele – Naturerlebnisspiele für Erwachsene :: Wiederbeleben 
 der Sinne...
URL:https://termine.ekir.de/veranstaltung_im_detail720210.html
END:VEVENT
END:VCALENDAR
