BEGIN:VCALENDAR
VERSION:2.0
PRODID:-//evangelische-termine.de//NONSGML kigkonsult.se iCalcreator 2.18//
CALSCALE:GREGORIAN
METHOD:PUBLISH
X-WR-CALNAME:iCal Evangelische-Termine 20.04.2026
X-WR-CALDESC:iCalender von Evangelische-Termine (20.04.2026)
X-WR-TIMEZONE:Europe/Berlin
X-MS-OLK-FORCEINSPECTOROPEN:TRUE
BEGIN:VTIMEZONE
TZID:Europe/Berlin
BEGIN:STANDARD
DTSTART:19701025T030000
TZOFFSETFROM:+0200
TZOFFSETTO:+0100
RRULE:FREQ=YEARLY;BYDAY=-1SU;BYMONTH=10
TZNAME:CET
END:STANDARD
BEGIN:DAYLIGHT
DTSTART:19700329T020000
TZOFFSETFROM:+0100
TZOFFSETTO:+0200
RRULE:FREQ=YEARLY;BYDAY=-1SU;BYMONTH=3
TZNAME:CEST
END:DAYLIGHT
END:VTIMEZONE
BEGIN:VEVENT
UID:20240504T100000-720345@evangelische-termine.de
DTSTAMP:20260419T223912Z
DESCRIPTION:\nKirchenkreis: überregional\nArt der Veranstaltung: Fortbildun
 gen / Seminare / Vorträge\nVeranstaltungsort: Wildnis-Werkstatt Weltenbaum
 \nEcke Dhaunerstr./Brunnenstraße\n55606 Oberhausen\nKurzbeschreibung / Unt
 ertitel: Kochen in der Natur\nAusführliche Beschreibung: Das Kochen in der
  Natur ist ein besonderes Erlebnis.\nGemeinsam Wild- und Heilkräuter samme
 ln und daraus eine gesunde und wohlschmeckende Mahlzeit zubereiten ist ein
 e Erfahrung\, an die man noch lange und gerne zurückdenkt.\nFörderbereich:
  Sonstiges\nReferent/in: Alexandra Fey\, Heike Zerfaß\, Erzieherinnen\, Wa
 lderzieherinnen\, Wildnispädagoginnen\nAnsprechpartner/in - Leitung: Heike
  Zerfaß\nKosten: 20\,– € ohne Verpflegung\nZusatzinformationen: Anmeldung 
 bis 26.04.2024\n: \nAnsprechpartner: Carola Schick eeb-sued@eeb-sued.de
DTSTART;TZID=Europe/Berlin:20240504T100000
DTEND;TZID=Europe/Berlin:20240504T140000
LOCATION:Oberhausen: Wildnis-Werkstatt Weltenbaum
SUMMARY:Wilde Kräuter – Wilde Küche :: Kochen in der Natur
URL:https://termine.ekir.de/veranstaltung_im_detail720345.html
END:VEVENT
END:VCALENDAR
