BEGIN:VCALENDAR
VERSION:2.0
PRODID:-//evangelische-termine.de//NONSGML kigkonsult.se iCalcreator 2.18//
CALSCALE:GREGORIAN
METHOD:PUBLISH
X-WR-CALNAME:iCal Evangelische-Termine 19.04.2026
X-WR-CALDESC:iCalender von Evangelische-Termine (19.04.2026)
X-WR-TIMEZONE:Europe/Berlin
X-MS-OLK-FORCEINSPECTOROPEN:TRUE
BEGIN:VTIMEZONE
TZID:Europe/Berlin
BEGIN:STANDARD
DTSTART:19701025T030000
TZOFFSETFROM:+0200
TZOFFSETTO:+0100
RRULE:FREQ=YEARLY;BYDAY=-1SU;BYMONTH=10
TZNAME:CET
END:STANDARD
BEGIN:DAYLIGHT
DTSTART:19700329T020000
TZOFFSETFROM:+0100
TZOFFSETTO:+0200
RRULE:FREQ=YEARLY;BYDAY=-1SU;BYMONTH=3
TZNAME:CEST
END:DAYLIGHT
END:VTIMEZONE
BEGIN:VEVENT
UID:20231130T180000-720346@evangelische-termine.de
DTSTAMP:20260419T192612Z
DESCRIPTION:\nKirchenkreis: überregional\nArt der Veranstaltung: Fortbildun
 gen / Seminare / Vorträge\nVeranstaltungsort: Ev. Erwachsenenbildungswerk 
 Rheinland-Süd e.V.\, Simmern\nHerzog-Reichard-Str. 30\n55469 Simmern\nKurz
 beschreibung / Untertitel: Lesen und Schreiben lernen mit dem Thema Geld\n
 Ausführliche Beschreibung: Mehr als 6 Mio erwachsene Menschen können nicht
  ausreichend lesen und schreiben. Bereits das Kontrollieren eines Kassenbe
 legs oder der Abschluss eines Handyvertrages bereitet da große Schwierigke
 iten. Mit den Themen aus der Finanziellen Grundbildung und Lernmaterialien
  aus dem Alltag und in einfacher Sprache werden die Grundkompetenzen im Um
 gang mit Geld vermittelt und dabei schwache Lese- und Schreibkompetenzen g
 estärkt und gefestigt.\nFörderbereich: Kompensatorische Grundbildung\nRefe
 rent/in: Alexandra Wust\nAnsprechpartner/in - Leitung: Alexandra Wust\nKos
 ten: 10\,00 € Materialkosten\nZusatzinformationen: Anmeldung bei Alexandra
  Wust unter 0160 7637103 \noder per E-Mail swust@eeb-sued.de oder über den
  Anmeldebutton\n: \nAnsprechpartner: Alexandra Wust swust@eeb-sued.de\n067
 61/7018
DTSTART;TZID=Europe/Berlin:20231130T180000
DTEND;TZID=Europe/Berlin:20231130T201500
LOCATION:Simmern: Ev. Erwachsenenbildungswerk Rheinland-Süd e.V.\, Simmern
RRULE:FREQ=DAILY;UNTIL=20231221T235900Z;INTERVAL=1;WKST=SU
SUMMARY:Finanziell Fit - Grundbildungskurs :: Finanziell Fit - Grundbildung
 skurs (Kurs II)
URL:https://termine.ekir.de/veranstaltung_im_detail720346.html
END:VEVENT
END:VCALENDAR
