BEGIN:VCALENDAR
VERSION:2.0
PRODID:-//evangelische-termine.de//NONSGML kigkonsult.se iCalcreator 2.18//
CALSCALE:GREGORIAN
METHOD:PUBLISH
X-WR-CALNAME:iCal Evangelische-Termine 20.04.2026
X-WR-CALDESC:iCalender von Evangelische-Termine (20.04.2026)
X-WR-TIMEZONE:Europe/Berlin
X-MS-OLK-FORCEINSPECTOROPEN:TRUE
BEGIN:VTIMEZONE
TZID:Europe/Berlin
BEGIN:STANDARD
DTSTART:19701025T030000
TZOFFSETFROM:+0200
TZOFFSETTO:+0100
RRULE:FREQ=YEARLY;BYDAY=-1SU;BYMONTH=10
TZNAME:CET
END:STANDARD
BEGIN:DAYLIGHT
DTSTART:19700329T020000
TZOFFSETFROM:+0100
TZOFFSETTO:+0200
RRULE:FREQ=YEARLY;BYDAY=-1SU;BYMONTH=3
TZNAME:CEST
END:DAYLIGHT
END:VTIMEZONE
BEGIN:VEVENT
UID:20240726T000000-720348@evangelische-termine.de
DTSTAMP:20260420T000723Z
DESCRIPTION:\nKirchenkreis: überregional\nArt der Veranstaltung: Freizeiten
  / Reisen\nVeranstaltungsort: Dublin\n Dublin\nKurzbeschreibung / Untertit
 el: „Den Norden Irlands entdecken“ | Eine 8-tägige Studienreise\nAusführli
 che Beschreibung: veranstaltet vom Europäischen Bildungs- und Begegnungsze
 ntrum Irland \nin Zusammenarbeit mit dem Evangelischen Erwachsenenbildungs
 werk Rheinland-Süd e.V. sowie Dorothee Knabe und Pfarrerin i. R. Tabea Gra
 ichen\n\nDer nordwestliche Teil der „Grünen Insel“ Irland bietet sich in g
 anz besonderer Weise für eine kombinierte Bildungs- und Begegnungsreise an
 .\nUrsprüngliche Landschaften\, immergrün durch das milde Klima\, sanfte\,
  bewaldete Hügel und Täler\, menschen­leere Sandstrände ebenso wie karge T
 orf­moore und vom Wind und Wasser zerrissene Küsten wechseln sich ab mit e
 iner überwältigenden Vielfalt \nvon Zeugnissen eines kulturellen Erbes aus
  vielen  Jahrtausenden.\nUnsere Reise führt uns über Dublin zu vielen inte
 ressanten Städten und Plätzen\, u.a. in die Hauptstadt Nordirlands Belfast
 \, entlang der herrlichen Antrim-Küsten an den Giant´s Causwag\, das sog. 
 „8. Weltwunder“\, die Stadt (London-)Derry sowie in einige der schönsten u
 nd abwechslungsreichsten Grafschaften der Republik Irland\, nämlich Donega
 l und Sligo.\nInternetadresse (eigene Infos im Internet): https://eeb-sued
 .de/studienfahrt-irland-2024/\nFörderbereich: Sonstiges\nReferent/in: Ecka
 rd Ladner\, Studienleiter EBZ Irland\, Killarney\nDorothee Knabe und Pfarr
 erin i. R. Tabea Graichen\nAnsprechpartner/in - Leitung: Kirsten Arnswald
 \nKosten: 1792\,– € (im DZ) bei mind. 25 Teilnehmenden pro Person\nZusatzi
 nformationen: EZ-Zuschlag: 395\,– € *\n(Nicht im Preis enthalten sind der 
 Transfer zum deutschen Flughafen\, Versicherungen\, Trinkgelder\, sonstige
  Mahlzeiten und Getränke\, persönliche Ausgaben. Preisanpassungen sind auf
 grund der aktuellen Situation möglich.)\n: \nAnsprechpartner: Kirsten Arns
 wald karnswald@eeb-sued.de\n06761/7019
DTSTART;VALUE=DATE:20240726
DTEND;VALUE=DATE:20240803
LOCATION:Dublin: Dublin
SUMMARY:Bildungs- und Begegnungsreise „Auf ungewöhnlichen Wegen in den Nord
 en und Nordwesten Irlands“ :: Bildungs- und Begegnungsreise „Den Norden Ir
 lands entdecken“
URL:https://termine.ekir.de/veranstaltung_im_detail720348.html
END:VEVENT
END:VCALENDAR
