BEGIN:VCALENDAR
VERSION:2.0
PRODID:-//evangelische-termine.de//NONSGML kigkonsult.se iCalcreator 2.18//
CALSCALE:GREGORIAN
METHOD:PUBLISH
X-WR-CALNAME:iCal Evangelische-Termine 20.04.2026
X-WR-CALDESC:iCalender von Evangelische-Termine (20.04.2026)
X-WR-TIMEZONE:Europe/Berlin
X-MS-OLK-FORCEINSPECTOROPEN:TRUE
BEGIN:VTIMEZONE
TZID:Europe/Berlin
BEGIN:STANDARD
DTSTART:19701025T030000
TZOFFSETFROM:+0200
TZOFFSETTO:+0100
RRULE:FREQ=YEARLY;BYDAY=-1SU;BYMONTH=10
TZNAME:CET
END:STANDARD
BEGIN:DAYLIGHT
DTSTART:19700329T020000
TZOFFSETFROM:+0100
TZOFFSETTO:+0200
RRULE:FREQ=YEARLY;BYDAY=-1SU;BYMONTH=3
TZNAME:CEST
END:DAYLIGHT
END:VTIMEZONE
BEGIN:VEVENT
UID:20240507T000000-720349@evangelische-termine.de
DTSTAMP:20260419T224609Z
DESCRIPTION:\nKirchenkreis: überregional\nArt der Veranstaltung: Freizeiten
  / Reisen\nVeranstaltungsort: Auschwitz – Birkenau – Krakau\n Oswiecim/Pol
 en\nKurzbeschreibung / Untertitel: Geschichte vor Ort erfahren\nAusführlic
 he Beschreibung: Auschwitz war das größte nationalsozialistische Vernichtu
 ngslager\, in dem mehr als eineinhalb Millionen Menschen ermordet wurden. 
 Entsprechend steht dieser Name als Synonym für den Völkermord an den europ
 äischen Juden. Aber auch Polen\, Russen\, Sinti und Roma\, Christen\, Behi
 nderte\, Homosexuelle... sind hier dem Rassenwahn der Nationalsozialisten 
 zum Opfer gefallen. Männer\, Frauen und Kinder.\nDie fünftägige Studienfah
 rt bietet  Ihnen die Möglichkeit\, sich mit diesem Teil der Geschichte\, a
 ufgehoben in einer Gruppe und unter fachlicher Begleitung\, auseinander zu
  setzen.\nProgramm: \n- (Entstehungs)geschichte des Stammlagers Auschwitz.
  \n- Führung durch das Stammlager Auschwitz + Länderausstellung\n- Besuch 
 Lager Auschwitz-Birkenau\n- Fahrt nach Krakau: Besuch des Schindler-Museum
  mit Zeitzeugin Niusia Horowitz\n- Stadtführung und das jüdische Viertel K
 azimierz und das ehemalige Ghetto\n- Abendessen im jüdischen Lokal Klezmer
 -Hois\, traditionellen jüdischen Lokal mit Live-Klezmermusik\n- Stadtführu
 ng Auschwitz\nZur Studienreise gehören ein Vorbereitungstreffen und ein Na
 chtreffen. Voraussichtlicher Termin des Vorbereitungstreffens im Februar/M
 ärz 2024 im Ev. Erwachsenenbildungswerk in Simmern.\nInternetadresse (eige
 ne Infos im Internet): https://eeb-sued.de/studienfahrt-2024-auschwitz-bir
 kenau-krakau/\nFörderbereich: Politik und Ethik\nReferent/in: E. Reiner En
 gelmann\, Sozialpädagoge und Schriftsteller\, www.reiner-engelmann.de\nAns
 prechpartner/in - Leitung: E. Reiner Engelmann\nKosten: 930\,– € /Person\n
 Zusatzinformationen: Im Preis enthalten sind:\ndie Flugkosten\; Kosten für
  Unterbringung und Verpflegung im Zentrum für Dialog und Gebet\; Eintritts
 gelder für das Stammlager und Auschwitz-Birkenau\; Honorar für die Zeitzeu
 gin\; Kosten für eine Exkursion nach Krakau mit Stadtführung sowie ein gem
 einsames Abendessen in einem jüdischen Lokal (Änderungen sind aufgrund von
  Preisanpassungen bei den Flügen möglich).\n\nFür die Studienreise wird Bi
 ldungsfreistellung nach dem Bildungsfreistellungsgesetz Rheinland-Pfalz be
 antragt.\n: \nAnsprechpartner: Kirsten Arnswald karnswald@eeb-sued.de\n067
 61/7019
DTSTART;VALUE=DATE:20240507
DTEND;VALUE=DATE:20240512
LOCATION:Oswiecim/Polen: Auschwitz – Birkenau – Krakau
SUMMARY:- AUSGEBUCHT - Auschwitz – Birkenau – Krakau Studienfahrt 2024 :: G
 eschichte vor Ort erfahren
URL:https://termine.ekir.de/veranstaltung_im_detail720349.html
END:VEVENT
END:VCALENDAR
