BEGIN:VCALENDAR
VERSION:2.0
PRODID:-//evangelische-termine.de//NONSGML kigkonsult.se iCalcreator 2.18//
CALSCALE:GREGORIAN
METHOD:PUBLISH
X-WR-CALNAME:iCal Evangelische-Termine 19.04.2026
X-WR-CALDESC:iCalender von Evangelische-Termine (19.04.2026)
X-WR-TIMEZONE:Europe/Berlin
X-MS-OLK-FORCEINSPECTOROPEN:TRUE
BEGIN:VTIMEZONE
TZID:Europe/Berlin
BEGIN:STANDARD
DTSTART:19701025T030000
TZOFFSETFROM:+0200
TZOFFSETTO:+0100
RRULE:FREQ=YEARLY;BYDAY=-1SU;BYMONTH=10
TZNAME:CET
END:STANDARD
BEGIN:DAYLIGHT
DTSTART:19700329T020000
TZOFFSETFROM:+0100
TZOFFSETTO:+0200
RRULE:FREQ=YEARLY;BYDAY=-1SU;BYMONTH=3
TZNAME:CEST
END:DAYLIGHT
END:VTIMEZONE
BEGIN:VEVENT
UID:20230911T183000-720713@evangelische-termine.de
DTSTAMP:20260419T160003Z
DESCRIPTION:\nKirchenkreis: überregional\nArt der Veranstaltung: Fortbildun
 gen / Seminare / Vorträge\nVeranstaltungsort: online\n- -\nKurzbeschreibun
 g / Untertitel: Online-Bibelkurs in zweimal fünf Teilen - Zusatzangebot!\n
 Ausführliche Beschreibung: Basics. Um mehr kann es nicht gehen in einem Ku
 rs\, der in nur zweimal fünf Einheiten eine Einführung in das Buch der Büc
 her geben will. Um weniger aber auch nicht.\nFür alle\, die den Kurs im le
 tzten Jahr verpasst haben\, ist das die Gelegenheit\, miteinander die Bibe
 l kennenzulernen und ihr viele Fragen zu stellen: Was ist überhaupt die Bi
 bel? Wer hat sie geschrieben? Worum geht es? Wo finde ich was? Was geht mi
 ch das an?\nDie Kursabende finden online statt\, so dass Sie bequem von zu
 hause aus teilnehmen können.\nSie umfassen jeweils zwei Zeitstunden. Die E
 inheiten 1 – 5 widmen sich dem Alten Testament\, in 6 – 10 soll es um das 
 Neue Testament gehen.\nDer Kursverlauf folgt keiner starren Planung\, sond
 ern berücksichtigt Ihre Fragen und Interessen. Die folgenden Stichworte di
 enen daher nur der vorläufigen Orientierung:\n\nAltes Testament: \n- Was d
 ie Urgeschichte über den Menschen sagt. \n- Ein Gott\, der mitgeht. Vom Ex
 odus bis zum Exil\n- Psalmen: Die Bibel als Gebetbuch. \n- Menschliches Le
 id: Hiob. \n- Was sind Propheten?\n\nNeues Testament: \n- Wer war Jesus? 
 \n- Entstehung und Inhalt der Evangelien\n- Das Johannesevangelium und das
  Problem des Antijudaismus\n- Anfänge des Christentums: Apostelgeschichte 
 und Briefe.\n- Ein Buch mit sieben Siegeln? Bildwelt der Offenbarung. \n\n
 Jemand hat einmal gesagt\, die Bibel sei für ihn wie eine Landschaft mit T
 älern und Hügeln\, weiten Ebenen und Felsen\, belebenden Quellen und still
 en Seen. \nEin treffendes Bild. Schauen wir uns in dieser Landschaft um un
 d erkunden sie gemeinsam. Die Kursleitung kann dabei nur ein „Guide“ sein.
  In der Landschaft bewegen müssen wir uns selber\, um sie kennenzulernen u
 nd uns gegenseitig auf ihre Schönheiten und Eigenheiten aufmerksam zu mach
 en. Der Austausch untereinander ist daher genauso wichtig wie der informat
 ive Anteil. \nSie brauchen kein Vorwissen. Sie müssen nicht fromm sein. Ih
 r Wunsch\, mehr zu erfahren und sich gemeinsam mit anderen auf diesen Weg 
 zu machen\, ist die einzige Voraussetzung zur Teilnahme.\n\nBei mindestens
  acht Teilnehmenden findet der Kurs statt.\n\nTermine: \nmontags\, 18.30-2
 0.30 Uhr\nTeil 1: 11. September\, 25. September\, 9. Oktober\, 30. Oktober
 \, 13. November 2023\nTeil 2: 27. November\, 11. Dezember 2023\, 8. Januar
 \, 22. Januar\, 05. Februar 2024 \n\nFür Unentschlossene gibt es einen Ter
 min zum Schnuppern am Donnerstag\, den 07.09.2023\, 18.30-19.30 Uhr \n\nDe
 n Zugangslink zur Veranstaltung erhalten Sie einige Tage vor Beginn des Ku
 rses.\nInternetadresse (eigene Infos im Internet): http://www.eeb-sued.de
 \nFörderbereich: Theologie/Religion\nReferent/in: Margit Büttner\, Pfarrer
 in\, Bildungsreferentin im Evangelischen Erwachsenenbildungswerk Rheinland
 -Süd e.V.\nAnsprechpartner/in - Leitung: Margit Büttner\, Pfarrerin\, Bild
 ungsreferentin im Evangelischen Erwachsenenbildungswerk Rheinland-Süd e.V.
 \nKosten: Teil 1: 25\,00 Euro\, Teil 2: 25\,00 Euro\nZusatzinformationen: 
 Anmeldung für Teil 1 bis 08.09.2023\; für Teil 2 bis 20.11.2023\n: 
DTSTART;TZID=Europe/Berlin:20230911T183000
DTEND;TZID=Europe/Berlin:20230911T203000
LOCATION:-: online
RRULE:FREQ=DAILY;UNTIL=20240205T235900Z;INTERVAL=1;WKST=SU
SUMMARY:Bibel-Basics – Was ich schon immer wissen wollte. Wegen hoher Nachf
 rage jetzt auch montags (ausgebucht)
URL:https://termine.ekir.de/veranstaltung_im_detail720713.html
END:VEVENT
END:VCALENDAR
