BEGIN:VCALENDAR
VERSION:2.0
PRODID:-//evangelische-termine.de//NONSGML kigkonsult.se iCalcreator 2.18//
CALSCALE:GREGORIAN
METHOD:PUBLISH
X-WR-CALNAME:iCal Evangelische-Termine 22.04.2026
X-WR-CALDESC:iCalender von Evangelische-Termine (22.04.2026)
X-WR-TIMEZONE:Europe/Berlin
X-MS-OLK-FORCEINSPECTOROPEN:TRUE
BEGIN:VTIMEZONE
TZID:Europe/Berlin
BEGIN:STANDARD
DTSTART:19701025T030000
TZOFFSETFROM:+0200
TZOFFSETTO:+0100
RRULE:FREQ=YEARLY;BYDAY=-1SU;BYMONTH=10
TZNAME:CET
END:STANDARD
BEGIN:DAYLIGHT
DTSTART:19700329T020000
TZOFFSETFROM:+0100
TZOFFSETTO:+0200
RRULE:FREQ=YEARLY;BYDAY=-1SU;BYMONTH=3
TZNAME:CEST
END:DAYLIGHT
END:VTIMEZONE
BEGIN:VEVENT
UID:20230906T190000-721287@evangelische-termine.de
DTSTAMP:20260422T143354Z
DESCRIPTION:\nVeranstalterin: Evangelische Akademie im Rheinland\nThemenber
 eich : Kirche auf dem Land\nMehr Informationen: Die Flutkatastrophe im Jul
 i 2021 hat auch die Städte Schleiden\, Gemünd und Kall schwer getroffen un
 d noch heute sind die Nachwirkungen zu spüren. Viele Menschen in den betro
 ffenen Gebieten leben bis heute mit den Folgen. Die Kirchengemeinden und d
 ie Diakonie leisteten und leisten mit finanzieller Unterstützung\, Seelsor
 ge und Beratung einen wichtigen Beitrag.  \n\nPfarrer Erik Schumacher von 
 der Evangelischen Trinitatis-Kirchengemeinde zeigt Bilder aus der Flutnach
 t und berichtet von der Hilfe in den ersten Wochen und den bis in die Gege
 nwart andauernden Aufbauarbeiten. Zudem gibt er Einblicke in die Arbeit de
 s 2022 eröffneten 'Hilfszentrum Schleidener Tal'. \n\nNach dem Vortrag bes
 teht die Möglichkeit zum Austausch.\nAnmeldung und praktische Hinweise: An
 meldung zur Veranstaltung: https://ekir.zoom.us/meeting/register/u5Ilce6gq
 zgqGtQDaMBXPRoC08tJx5Hrfhoi\n\nWir nutzen die Videokonferenz-Software Zoom
 .\nKosten: Die Teilnahme ist kostenfrei.\nAnsprechpartner:in: Dr. Eva-Mari
 a Gummelt\, Studienleiterin\nThemenbereich: Kirche auf dem Land\nhttps://k
 irche-dorf-land.ekir.de/\nTel.: 0228 479898-50\nVeranstaltungsort: Online
 \n00000 Internet\nInternetadresse: https://ev-akademie-rheinland.ekir.de/s
 tart/home/\nE-Mail: info@akademie.ekir.de\nZielgruppe: Es sind alle eingel
 aden\, die sich für das Themenfeld interessieren.
DTSTART;TZID=Europe/Berlin:20230906T190000
DTEND;TZID=Europe/Berlin:20230906T203000
LOCATION:Internet: Online
SUMMARY:Zwei Jahre nach der Flut - Eindrücke aus dem Schleidener Tal
URL:https://termine.ekir.de/veranstaltung_im_detail721287.html
END:VEVENT
END:VCALENDAR
