BEGIN:VCALENDAR
VERSION:2.0
PRODID:-//evangelische-termine.de//NONSGML kigkonsult.se iCalcreator 2.18//
CALSCALE:GREGORIAN
METHOD:PUBLISH
X-WR-CALNAME:iCal Evangelische-Termine 19.04.2026
X-WR-CALDESC:iCalender von Evangelische-Termine (19.04.2026)
X-WR-TIMEZONE:Europe/Berlin
X-MS-OLK-FORCEINSPECTOROPEN:TRUE
BEGIN:VTIMEZONE
TZID:Europe/Berlin
BEGIN:STANDARD
DTSTART:19701025T030000
TZOFFSETFROM:+0200
TZOFFSETTO:+0100
RRULE:FREQ=YEARLY;BYDAY=-1SU;BYMONTH=10
TZNAME:CET
END:STANDARD
BEGIN:DAYLIGHT
DTSTART:19700329T020000
TZOFFSETFROM:+0100
TZOFFSETTO:+0200
RRULE:FREQ=YEARLY;BYDAY=-1SU;BYMONTH=3
TZNAME:CEST
END:DAYLIGHT
END:VTIMEZONE
BEGIN:VEVENT
UID:20240109T100000-730697@evangelische-termine.de
DTSTAMP:20260419T192606Z
DESCRIPTION:\nKirchenkreis: überregional\nArt der Veranstaltung: Fortbildun
 gen / Seminare / Vorträge\nVeranstaltungsort: online\n- -\nKurzbeschreibun
 g / Untertitel: Justizreform\, Überfall durch die Hamas\, Gazakrieg - wohe
 r kommt das\, und was kommt jetzt noch?\nAusführliche Beschreibung: Monate
 lang kam es in Israel zu teilweise heftigen Protesten gegen eine von der g
 egenwärtigen Regierung geplante Justizreform. Im Hintergrund geht es auch 
 um Machtfragen. \nDie Kräfteverhältnisse In dem kleinen Staat Israel haben
  sich in den letzten Jahrzehnten deutlich verschoben und werden es weiter 
 tun. Der Einfluss der Religiösen und Ultraorthodoxen nimmt zu\, während di
 e eher westlich-demokratisch und säkular Orientierten weniger werden\, abe
 r weiterhin an der Deutungshoheit festhalten. Das führt unweigerlich zu Ko
 nflikten. Das Austragen von Kontroversen gehört wesentlich zu einer funkti
 onierenden Demokratie. Die Dynamik der Konflikte\, die sich zunehmend auf 
 die Straße verlagern\, ist jedoch unberechenbar. \nDann kam der barbarisch
 e Überfall der Terrororganisation Hamas auf die zivile Bevölkerung Israels
  mit dem einzigen Ziel\, so viele Juden wie möglich zu töten. \nDie israel
 ische Reaktion darauf erregt die Gemüter hierzulande fast mehr als das Pog
 rom vom 7. Oktober. \nHören wir\, was der evangelische Theologe und Journa
 list Johannes Gerloff uns berichten kann. Er lebt seit 30 Jahren in Jerusa
 lem.\nInternetadresse (eigene Infos im Internet): https://eeb-sued.de/vera
 nstaltungen/\nFörderbereich: Politische Bildung\nReferent/in: Johannes Ger
 loff\, Journalist und Autor\, Jerusalem/Israel\nAnsprechpartner/in - Leitu
 ng: Margit Büttner\nKosten: Teilnahmebeitrag auf freiwilliger Basis.\n: 
DTSTART;TZID=Europe/Berlin:20240109T100000
DTEND;TZID=Europe/Berlin:20240109T120000
LOCATION:-: online
SUMMARY:Was ist in Israel eigentlich los? :: Justizreform\, Überfall durch 
 die Hamas\, Gazakrieg - woher kommt das\, und was kommt jetzt noch?
URL:https://termine.ekir.de/veranstaltung_im_detail730697.html
END:VEVENT
END:VCALENDAR
