BEGIN:VCALENDAR
VERSION:2.0
PRODID:-//evangelische-termine.de//NONSGML kigkonsult.se iCalcreator 2.18//
CALSCALE:GREGORIAN
METHOD:PUBLISH
X-WR-CALNAME:iCal Evangelische-Termine 19.04.2026
X-WR-CALDESC:iCalender von Evangelische-Termine (19.04.2026)
X-WR-TIMEZONE:Europe/Berlin
X-MS-OLK-FORCEINSPECTOROPEN:TRUE
BEGIN:VTIMEZONE
TZID:Europe/Berlin
BEGIN:STANDARD
DTSTART:19701025T030000
TZOFFSETFROM:+0200
TZOFFSETTO:+0100
RRULE:FREQ=YEARLY;BYDAY=-1SU;BYMONTH=10
TZNAME:CET
END:STANDARD
BEGIN:DAYLIGHT
DTSTART:19700329T020000
TZOFFSETFROM:+0100
TZOFFSETTO:+0200
RRULE:FREQ=YEARLY;BYDAY=-1SU;BYMONTH=3
TZNAME:CEST
END:DAYLIGHT
END:VTIMEZONE
BEGIN:VEVENT
UID:20240206T100000-735023@evangelische-termine.de
DTSTAMP:20260419T211258Z
DESCRIPTION:\nKirchenkreis: überregional\nArt der Veranstaltung: Fortbildun
 gen / Seminare / Vorträge\nVeranstaltungsort: Ev. Kirchenkreis Koblenz\, S
 uperintendentur\nMainzer Str. 81\n56075 Koblenz\nAusführliche Beschreibung
 : Nach 40 Berufsjahren scheidet Pfarrerin Margit Büttner aus dem kirchlich
 en Dienst aus. Mit einem persönlichen Rückblick auf Orte\, Menschen und Be
 gegnungen wird sie sich von uns verabschieden. Der geeignete Rahmen dafür 
 ist der Ökumene-ImBiss im Haus des Evangelischen Kirchenkreises Koblenz.\n
 Seit 1991 gibt es diese Reihe. Im Juli 2005 übernahm Frau Büttner die Leit
 ung des beliebten Bildungsformats und richtete seitdem allein in diesem Ra
 hmen fast 190 Veranstaltungen aus. Ihre vielen treuen Gäste waren so etwas
  wie die 'Gemeinde' der Pfarrerin.\nDer Rückblick schweift aber auch über 
 ihre anderen Projekte wie z.B. Café Atempause\, Kulturführerschein\, Kirch
 enführerausbidung und anderes mehr.\nDas 'Frühstück' wird sich diesmal ab 
 ca. 11 Uhr anschließen. Bitte vergessen Sie nicht \, sich anzumelden\, dam
 it wir gut vorbereitet sind!\nFörderbereich: Sonstiges\nReferent/in: Margi
 t Büttner\n: 
DTSTART;TZID=Europe/Berlin:20240206T100000
DTEND;TZID=Europe/Berlin:20240206T120000
LOCATION:Koblenz: Ev. Kirchenkreis Koblenz\, Superintendentur
SUMMARY:Ein Rückblick und ein Abschied
URL:https://termine.ekir.de/veranstaltung_im_detail735023.html
END:VEVENT
END:VCALENDAR
