BEGIN:VCALENDAR
VERSION:2.0
PRODID:-//evangelische-termine.de//NONSGML kigkonsult.se iCalcreator 2.18//
CALSCALE:GREGORIAN
METHOD:PUBLISH
X-WR-CALNAME:iCal Evangelische-Termine 19.04.2026
X-WR-CALDESC:iCalender von Evangelische-Termine (19.04.2026)
X-WR-TIMEZONE:Europe/Berlin
X-MS-OLK-FORCEINSPECTOROPEN:TRUE
BEGIN:VTIMEZONE
TZID:Europe/Berlin
BEGIN:STANDARD
DTSTART:19701025T030000
TZOFFSETFROM:+0200
TZOFFSETTO:+0100
RRULE:FREQ=YEARLY;BYDAY=-1SU;BYMONTH=10
TZNAME:CET
END:STANDARD
BEGIN:DAYLIGHT
DTSTART:19700329T020000
TZOFFSETFROM:+0100
TZOFFSETTO:+0200
RRULE:FREQ=YEARLY;BYDAY=-1SU;BYMONTH=3
TZNAME:CEST
END:DAYLIGHT
END:VTIMEZONE
BEGIN:VEVENT
UID:20240313T090000-741961@evangelische-termine.de
DTSTAMP:20260419T204856Z
DESCRIPTION:\nKirchenkreis: überregional\nArt der Veranstaltung: Fortbildun
 gen / Seminare / Vorträge\nVeranstaltungsort: Ev. Erwachsenenbildungswerk 
 Rheinland-Süd e.V.\, Simmern\nHerzog-Reichard-Str. 30\n55469 Simmern\nKurz
 beschreibung / Untertitel: Mit Kindern Erfahrungen von Tod und Trauer teil
 en – im Reden\, in Ritualen  und beim Spielen.\nAusführliche Beschreibung:
  Kinder trauern ebenso wie Erwachsene – aber auf andere Weise: Wenn das fü
 r einen Menschen Unfassbare plötzlich im Raum steht\, der „Tod“\, realisie
 ren sie noch nicht augenblicklich\, dass der Tod das Ende des Lebens bedeu
 tet – und dass auch das eigene Leben dereinst enden wird. Der Begriff „Tod
 “ ist noch keine Chiffre für das Unfassbare und den unwiederbringlichen Ve
 rlust eines wichtigen oder geliebten Menschen\, er „ist halt einfach“ – so
  wie Regen und Sonnenschein. Momente der Traurigkeit und Sehnsucht wechsel
 n oft unvermittelt ab mit Zeiten\, in denen Kinder schnell unbeschwert zu 
 sein scheinen- und wieder anfangen zu spielen. Aber: Auch Spiel ist Trauer
 arbeit! Spielen Sie mit!\nSpiele\, unbedingte Gesprächsoffenheit und Ritua
 le des Abschiednehmens und Heilwerdens von der grundlegenden Verletzung de
 s Verlustes sind der Dreiklang\, auf den es ankommt.\nFörderbereich: Arbei
 tswelt- und berufsbezogene Weiterbildung\nReferent/in: Oliver Weidermann\,
  Bildungsreferent\nKosten: 80\,– €\nZusatzinformationen: Anmeldung bis 01.
 03.2024\n: \nAnsprechpartner: Carola Schick eeb-sued@eeb-sued.de
DTSTART;TZID=Europe/Berlin:20240313T090000
DTEND;TZID=Europe/Berlin:20240313T163000
LOCATION:Simmern: Ev. Erwachsenenbildungswerk Rheinland-Süd e.V.\, Simmern
SUMMARY:NEUER TERMIN!! Wird verschoben!„Spielst du mit mir nachher Papas Be
 erdigung?“ :: Mit Kindern Erfahrungen von Tod und Trauer teilen
URL:https://termine.ekir.de/veranstaltung_im_detail741961.html
END:VEVENT
END:VCALENDAR
