BEGIN:VCALENDAR
VERSION:2.0
PRODID:-//evangelische-termine.de//NONSGML kigkonsult.se iCalcreator 2.18//
CALSCALE:GREGORIAN
METHOD:PUBLISH
X-WR-CALNAME:iCal Evangelische-Termine 19.04.2026
X-WR-CALDESC:iCalender von Evangelische-Termine (19.04.2026)
X-WR-TIMEZONE:Europe/Berlin
X-MS-OLK-FORCEINSPECTOROPEN:TRUE
BEGIN:VTIMEZONE
TZID:Europe/Berlin
BEGIN:STANDARD
DTSTART:19701025T030000
TZOFFSETFROM:+0200
TZOFFSETTO:+0100
RRULE:FREQ=YEARLY;BYDAY=-1SU;BYMONTH=10
TZNAME:CET
END:STANDARD
BEGIN:DAYLIGHT
DTSTART:19700329T020000
TZOFFSETFROM:+0100
TZOFFSETTO:+0200
RRULE:FREQ=YEARLY;BYDAY=-1SU;BYMONTH=3
TZNAME:CEST
END:DAYLIGHT
END:VTIMEZONE
BEGIN:VEVENT
UID:20240318T090000-741962@evangelische-termine.de
DTSTAMP:20260419T204834Z
DESCRIPTION:\nKirchenkreis: überregional\nArt der Veranstaltung: Fortbildun
 gen / Seminare / Vorträge\nVeranstaltungsort: Ev. Erwachsenenbildungswerk 
 Rheinland-Süd e.V.\, Simmern\nHerzog-Reichard-Str. 30\n55469 Simmern\nKurz
 beschreibung / Untertitel: Kindeswohl und Kindeswohlgefährdung sind Begrif
 fe\, die im Kita-Alltag immer wieder auftauchen. Aber was genau verstehen 
 wir unter „Kindeswohl“ und dessen Gefährdung?\nAusführliche Beschreibung: 
 Welche Möglichkeiten gibt es in der Kita\, Gefährdungen zu erkennen und wi
 e gehen wir mit diesen Erkenntnissen um?\n\nDie oben genannten Fragen führ
 en oft zu Verunsicherung. Genau hier soll diese Fortbildung ansetzen. Es s
 oll gemeinsam erarbeitet werden\, wie Gefährdungen erkannt werden und wie 
 professionell darauf reagiert werden kann bzw. muss.\n\nInhalte:\n>	Rechtli
 che Grundlagen\n>	Kindeswohlgefährdungen erkennen / Formen der Kindeswohlge
 fährdung\n>	Gewährleistung des Kindeswohls\n>	Konzeption => Umsetzung Kinder
 schutzkonzept\n>	Fazit\nFörderbereich: Arbeitswelt- und berufsbezogene Weit
 erbildung\nReferent/in: Sabine Baumgärtner\, Erzieherin\, Fachkraft U3\, S
 ozialpädagogin\nKosten: 160\,– €\nZusatzinformationen: Anmeldung bis 04.03
 .2024\nAnsprechpartner: Carola Schick eeb-sued@eeb-sued.de
DTSTART;TZID=Europe/Berlin:20240318T090000
DTEND;TZID=Europe/Berlin:20240318T163000
LOCATION:Simmern: Ev. Erwachsenenbildungswerk Rheinland-Süd e.V.\, Simmern
RRULE:FREQ=DAILY;UNTIL=20240319T235900Z;INTERVAL=1;WKST=SU
SUMMARY:ABGESAGT! Kindeswohlgefährdungen erkennen und  Kinderschutz umsetze
 n (1) :: Kindeswohl und Kindeswohlgefährdung sind Begriffe\, die im Kita-A
 lltag immer wieder auftauchen. Aber was genau verstehen wir unter „Kindesw
 ohl“ und des
URL:https://termine.ekir.de/veranstaltung_im_detail741962.html
END:VEVENT
END:VCALENDAR
