BEGIN:VCALENDAR
VERSION:2.0
PRODID:-//evangelische-termine.de//NONSGML kigkonsult.se iCalcreator 2.18//
CALSCALE:GREGORIAN
METHOD:PUBLISH
X-WR-CALNAME:iCal Evangelische-Termine 20.04.2026
X-WR-CALDESC:iCalender von Evangelische-Termine (20.04.2026)
X-WR-TIMEZONE:Europe/Berlin
X-MS-OLK-FORCEINSPECTOROPEN:TRUE
BEGIN:VTIMEZONE
TZID:Europe/Berlin
BEGIN:STANDARD
DTSTART:19701025T030000
TZOFFSETFROM:+0200
TZOFFSETTO:+0100
RRULE:FREQ=YEARLY;BYDAY=-1SU;BYMONTH=10
TZNAME:CET
END:STANDARD
BEGIN:DAYLIGHT
DTSTART:19700329T020000
TZOFFSETFROM:+0100
TZOFFSETTO:+0200
RRULE:FREQ=YEARLY;BYDAY=-1SU;BYMONTH=3
TZNAME:CEST
END:DAYLIGHT
END:VTIMEZONE
BEGIN:VEVENT
UID:20240405T090000-741963@evangelische-termine.de
DTSTAMP:20260419T223607Z
DESCRIPTION:\nKirchenkreis: überregional\nArt der Veranstaltung: Fortbildun
 gen / Seminare / Vorträge\nVeranstaltungsort: Ev. Erwachsenenbildungswerk 
 Rheinland-Süd e.V.\, Simmern\nHerzog-Reichard-Str. 30\n55469 Simmern\nKurz
 beschreibung / Untertitel: Verschiedene Beobachtungs- und Dokumentationsfo
 rmen anschauen und so möglichst alltagstaugliche und praxisorientierte Ans
 ätze kennenlernen.\nAusführliche Beschreibung: Beobachtung und Dokumentaio
 n sind grundlegender Bestandteil in unserem pädagogischen Tun. Um auf die 
 Bildungsprozesse der Kinder eingehen zu können\, müssen wir wissen\, mit w
 elchen Themen sich Kinder beschäftigen. Gezielte Beobachtungen helfen uns 
 dabei\, die Entwicklung der Kinder nachzuvollziehen und bilden die Grundla
 ge von passgenauen Bildungs- und Erfahrungsangeboten. Die Dokumentation de
 r Beobachtungen sind Teil der Bildungs- und Lerndokumentation und bilden g
 leichzeitig die Basis für den kollegialen Austausch und Elterngespräche.\n
 \nIn dieser Fortbildung werden wir uns verschiedene Beobachtungs- und Doku
 mentationsformen anschauen und so möglichst alltagstaugliche und praxisori
 entierte Ansätze kennenlernen (und finden).\nFörderbereich: Arbeitswelt- u
 nd berufsbezogene Weiterbildung\nReferent/in: Sabine Baumgärtner\, Erziehe
 rin\, Fachkraft U3\, Sozialpädagogin\nKosten: 80\,– €\nZusatzinformationen
 : Anmeldung bis 22.03.2024\n: \nAnsprechpartner: Carola Schick eeb-sued@ee
 b-sued.de
DTSTART;TZID=Europe/Berlin:20240405T090000
DTEND;TZID=Europe/Berlin:20240405T163000
LOCATION:Simmern: Ev. Erwachsenenbildungswerk Rheinland-Süd e.V.\, Simmern
SUMMARY:Beobachtung und Dokumentation :: Verschiedene Beobachtungs- und Dok
 umentationsformen anschauen und so möglichst alltagstaugliche und praxisor
 ientierte Ansätze kennenlernen.
URL:https://termine.ekir.de/veranstaltung_im_detail741963.html
END:VEVENT
END:VCALENDAR
