BEGIN:VCALENDAR
VERSION:2.0
PRODID:-//evangelische-termine.de//NONSGML kigkonsult.se iCalcreator 2.18//
CALSCALE:GREGORIAN
METHOD:PUBLISH
X-WR-CALNAME:iCal Evangelische-Termine 20.04.2026
X-WR-CALDESC:iCalender von Evangelische-Termine (20.04.2026)
X-WR-TIMEZONE:Europe/Berlin
X-MS-OLK-FORCEINSPECTOROPEN:TRUE
BEGIN:VTIMEZONE
TZID:Europe/Berlin
BEGIN:STANDARD
DTSTART:19701025T030000
TZOFFSETFROM:+0200
TZOFFSETTO:+0100
RRULE:FREQ=YEARLY;BYDAY=-1SU;BYMONTH=10
TZNAME:CET
END:STANDARD
BEGIN:DAYLIGHT
DTSTART:19700329T020000
TZOFFSETFROM:+0100
TZOFFSETTO:+0200
RRULE:FREQ=YEARLY;BYDAY=-1SU;BYMONTH=3
TZNAME:CEST
END:DAYLIGHT
END:VTIMEZONE
BEGIN:VEVENT
UID:20240409T090000-741964@evangelische-termine.de
DTSTAMP:20260419T223612Z
DESCRIPTION:\nKirchenkreis: überregional\nArt der Veranstaltung: Fortbildun
 gen / Seminare / Vorträge\nVeranstaltungsort: Ev. Erwachsenenbildungswerk 
 Rheinland-Süd e.V.\, Simmern\nHerzog-Reichard-Str. 30\n55469 Simmern\nKurz
 beschreibung / Untertitel: Von schöner Sprache und großen Gefühlen\nAusfüh
 rliche Beschreibung: Bilderbücher spielen in der Lebenswelt der Kinder ein
 e große Rolle. Die Geschichten und ihre Akteure helfen ihnen\, die Welt ke
 nnenzulernen\, Neues zu begreifen. Sie bieten Identifikationsfiguren\, för
 dern die Kreativität\, sind der erste Kontakt mit Kultur und sind unverzic
 htbar für die Sprachförderung. Doch mit welchen Büchern kann ich die Lust 
 auf Sprache wecken? Wir schauen uns Wimmelbücher\, Kettengeschichten und E
 pisodenerzählungen an und lernen einige Möglichkeiten des Einsatzes.\n\nIn
  Ihrer täglichen Arbeit mit den Kindern werden Sie immer wieder mit Gefühl
 en wie Wut\, Angst und Trauer konfrontiert. Oft bietet sich an\, mit der G
 ruppe diese Thematik noch einmal zu besprechen und zu reflektieren. Zu den
  Themen Wut\, Angst\, Tod und Trauer werden Ihnen 3 bis 4 Bilderbücher vor
  und einige kleine Projektideen für die praktische Arbeit.\n\nErworbene Ko
 mpetenzen der Teilnehmer*innen\n>	Sie haben Kenntnis über verschiedene Bild
 erbucharten und thematische \n	Bilderbücher\n>	Sie lernen geeignete Bilderbü
 cher zur Sprachförderung kennen\n>	Sie entdecken geeignete Bilderbücher zur
  Thematik „Gefühle“\n>	Sie setzen Projektideen für die Praxis um\n\nBitte b
 ringen Sie Ihr Lieblingsbilderbuch mit!\nFörderbereich: Arbeitswelt- und b
 erufsbezogene Weiterbildung\nReferent/in: Simone Jacken\, Pädagogin\, Mita
 utorin eines Kinderbuchs\, Dozentin für Ev. Büchereiarbeit\nKosten: 80\,– 
 €\nZusatzinformationen: Anmeldung bis 26.03.2024\nAnsprechpartner: Carola 
 Schick eeb-sued@eeb-sued.de
DTSTART;TZID=Europe/Berlin:20240409T090000
DTEND;TZID=Europe/Berlin:20240409T163000
LOCATION:Simmern: Ev. Erwachsenenbildungswerk Rheinland-Süd e.V.\, Simmern
SUMMARY:ABGESAGT! Bilderbuchwelten entdecken und gezielt  in der Kita umset
 zen :: Von schöner Sprache und großen Gefühlen
URL:https://termine.ekir.de/veranstaltung_im_detail741964.html
END:VEVENT
END:VCALENDAR
