BEGIN:VCALENDAR
VERSION:2.0
PRODID:-//evangelische-termine.de//NONSGML kigkonsult.se iCalcreator 2.18//
CALSCALE:GREGORIAN
METHOD:PUBLISH
X-WR-CALNAME:iCal Evangelische-Termine 20.04.2026
X-WR-CALDESC:iCalender von Evangelische-Termine (20.04.2026)
X-WR-TIMEZONE:Europe/Berlin
X-MS-OLK-FORCEINSPECTOROPEN:TRUE
BEGIN:VTIMEZONE
TZID:Europe/Berlin
BEGIN:STANDARD
DTSTART:19701025T030000
TZOFFSETFROM:+0200
TZOFFSETTO:+0100
RRULE:FREQ=YEARLY;BYDAY=-1SU;BYMONTH=10
TZNAME:CET
END:STANDARD
BEGIN:DAYLIGHT
DTSTART:19700329T020000
TZOFFSETFROM:+0100
TZOFFSETTO:+0200
RRULE:FREQ=YEARLY;BYDAY=-1SU;BYMONTH=3
TZNAME:CEST
END:DAYLIGHT
END:VTIMEZONE
BEGIN:VEVENT
UID:20240423T090000-741965@evangelische-termine.de
DTSTAMP:20260419T223711Z
DESCRIPTION:\nKirchenkreis: überregional\nArt der Veranstaltung: Fortbildun
 gen / Seminare / Vorträge\nVeranstaltungsort: Ev. Erwachsenenbildungswerk 
 Rheinland-Süd e.V.\, Simmern\nHerzog-Reichard-Str. 30\n55469 Simmern\nKurz
 beschreibung / Untertitel: In unserer schnelllebigen wie auch besonderen Z
 eit tut es uns und vor allem\, auch den Kindern gut\, sich kleine Phasen d
 er Ruhe und Entspannung zu gönn\nAusführliche Beschreibung: „Fantasie ist 
 wichtiger als Wissen\, denn Wissen ist begrenzt“\, \n	Albert Einstein\n\nIn
  unserer schnelllebigen wie auch besonderen Zeit tut es uns und vor allem\
 , auch den Kindern gut\, sich kleine Phasen der Ruhe und Entspannung zu gö
 nnen.\nSich auf Ruhe einlassen\, den eigenen Körper spüren und dadurch neu
 e Kraft tanken\, wirkt sich positiv auf Vieles aus\, u.a. auf das Selbstve
 rtrauen\, die Körperwahrnehmung oder die Resilienz.\n\nGemeinsam ausprobie
 ren werden wir:\n>	Spiele und Übungen zum Einstieg\n>	Wahrnehmungs- und Atem
 übungen\n>	Massagegeschichten und -spiele\n>	Fantasiereisen\n>	Klanggeschicht
 en\n>	Kleine Übungen aus der Kinesiologie\n>	Yoga für Kinder\n>	Einblicke in 
 Entspannungstechniken des Autogenen Trainings und der \n>	Progressiven Musk
 elentspannung\n\nAußerdem:\n>	Aufbau einer Entspannungseinheit\n>	Zeit für I
 deen- und Erfahrungsaustausch\n\nBitte mitbringen:\nMatte/Unterlage\, Kiss
 en für Kopf und Kniekehlen\, Decke\, warme Socken\nFörderbereich: Arbeitsw
 elt- und berufsbezogene Weiterbildung\nReferent/in: Carina Stützel\, Erzie
 herin\, Entspannungspädagogin und Fachkraft für offene Arbeit\nKosten: 80\
 ,– €\nZusatzinformationen: Anmeldung bis 09.04.2024\n: \nAnsprechpartner: 
 Carola Schick eeb-sued@eeb-sued.de
DTSTART;TZID=Europe/Berlin:20240423T090000
DTEND;TZID=Europe/Berlin:20240423T163000
LOCATION:Simmern: Ev. Erwachsenenbildungswerk Rheinland-Süd e.V.\, Simmern
SUMMARY:„Willkommen auf deiner Ruhe-Insel“ – mehr Achtsamkeit im Elementarb
 ereich :: In unserer schnelllebigen wie auch besonderen Zeit tut es uns un
 d vor allem\, auch den Kindern gut\, sich kleine Phasen der Ruhe und Entsp
 annung zu gönn
URL:https://termine.ekir.de/veranstaltung_im_detail741965.html
END:VEVENT
END:VCALENDAR
