BEGIN:VCALENDAR
VERSION:2.0
PRODID:-//evangelische-termine.de//NONSGML kigkonsult.se iCalcreator 2.18//
CALSCALE:GREGORIAN
METHOD:PUBLISH
X-WR-CALNAME:iCal Evangelische-Termine 20.04.2026
X-WR-CALDESC:iCalender von Evangelische-Termine (20.04.2026)
X-WR-TIMEZONE:Europe/Berlin
X-MS-OLK-FORCEINSPECTOROPEN:TRUE
BEGIN:VTIMEZONE
TZID:Europe/Berlin
BEGIN:STANDARD
DTSTART:19701025T030000
TZOFFSETFROM:+0200
TZOFFSETTO:+0100
RRULE:FREQ=YEARLY;BYDAY=-1SU;BYMONTH=10
TZNAME:CET
END:STANDARD
BEGIN:DAYLIGHT
DTSTART:19700329T020000
TZOFFSETFROM:+0100
TZOFFSETTO:+0200
RRULE:FREQ=YEARLY;BYDAY=-1SU;BYMONTH=3
TZNAME:CEST
END:DAYLIGHT
END:VTIMEZONE
BEGIN:VEVENT
UID:20240424T090000-741966@evangelische-termine.de
DTSTAMP:20260419T223619Z
DESCRIPTION:\nKirchenkreis: überregional\nArt der Veranstaltung: Fortbildun
 gen / Seminare / Vorträge\nVeranstaltungsort: Ev. Erwachsenenbildungswerk 
 Rheinland-Süd e.V.\, Simmern\nHerzog-Reichard-Str. 30\n55469 Simmern\nKurz
 beschreibung / Untertitel: Die „Bewegte Sprache“ ist als Intensivkurs konz
 ipiert für Kinder im vorletzten Kindergartenjahr\nAusführliche Beschreibun
 g: Die „Bewegte Sprache“ ist als Intensivkurs konzipiert für Kinder im vor
 letzten Kindergartenjahr mit besonderem Förderbedarf in der sprachlichen\,
  motorischen\, emotionalen und sozialen Kompetenz. \nDie Inhalte der „Bewe
 gten Sprache“ sind nicht nur als festes Kurskonzept zu nutzen\, sondern in
  weiten Teilen und mit den vielfältigen Arbeitsmaterialien des Handbuchs a
 uch in der täglichen Arbeit oder in der Förderung im Vorschulbereich. Dahe
 r liegt der Schwerpunkt der Fortbildung auf der praktischen Anwendung der 
 Inhalte. \nDie einzelnen Elemente der „Bewegten Sprache“ sind darauf ausge
 richtet\, die Kinder immer dort abholen zu können\, wo sie sich in ihrer E
 ntwicklung gerade befinden. Von diesem individuellen Punkt an werden ihnen
  Anreize gegeben\, sich weiterzuentwickeln\, Neues auszuprobieren in der S
 icherheit\, auch Fehler machen und dürfen\, und so ihre eigenen Schritte w
 eiterzugehen.\nTragfähige Beziehungen\, die Erfahrung von Bewegung und ein
  gutes Körpergefühl sind wichtige Grundlagen für die Sprachentwicklung. Di
 e Förderung der sprachlichen und der motorischen Entwicklung wird daher in
  der Bewegten Sprache miteinander verknüpft und erweitert durch die Stärku
 ng der Persönlichkeit\, die Befähigung zum Aufbau von Beziehungen und den 
 respektvollen Umgang miteinander. \nDie Kinder lernen\, eigene Gefühle aus
 zudrücken\, dem anderen zuzuhören\, ihn zu verstehen und sich selbst verst
 ändlich zu machen. Sie entwickeln die Fähigkeit\, mit Fehlern umzugehen un
 d Veränderungen\, Herausforderungen und Misserfolge zu meistern (Resilienz
 ). Das bewahrt vor Hilflosigkeit\, Resignation und in der Folge auch vor A
 ggression und Gewalt. \nDie Fortbildung vermittelt den pädagogischen Ansat
 z und das inhaltliche Konzept der „Bewegten Sprache“ und führt in die Arbe
 it mit dem Handbuch ein. \nDie fantasievollen Spiele und Übungen werden ex
 emplarisch erprobt und reflektiert. Sie beinhalten Sprachschatzerweiterung
  und Bewegungserfahrung\, Konzentration\, genaues Hören\, Artikulation und
  Mundmotorik\, Buchstabengeschichten\, Fantasiespiele\, musikalische und r
 hythmische Elemente.\nFörderbereich: Arbeitswelt- und berufsbezogene Weite
 rbildung\nReferent/in: Ursula Abeln\, Lehrerin i. R.\nKosten: 80\,– €\nZus
 atzinformationen: Anmeldung bis 10.05.2024\n: \nAnsprechpartner: Carola Sc
 hick eeb-sued@eeb-sued.de
DTSTART;TZID=Europe/Berlin:20240424T090000
DTEND;TZID=Europe/Berlin:20240424T163000
LOCATION:Simmern: Ev. Erwachsenenbildungswerk Rheinland-Süd e.V.\, Simmern
SUMMARY:Bewegte Sprache – Intensivkurs zum Aufbau   der sprachlichen Kompet
 enz im Vorschulalter :: Die „Bewegte Sprache“ ist als Intensivkurs konzipi
 ert für Kinder im vorletzten Kindergartenjahr
URL:https://termine.ekir.de/veranstaltung_im_detail741966.html
END:VEVENT
END:VCALENDAR
