BEGIN:VCALENDAR
VERSION:2.0
PRODID:-//evangelische-termine.de//NONSGML kigkonsult.se iCalcreator 2.18//
CALSCALE:GREGORIAN
METHOD:PUBLISH
X-WR-CALNAME:iCal Evangelische-Termine 20.04.2026
X-WR-CALDESC:iCalender von Evangelische-Termine (20.04.2026)
X-WR-TIMEZONE:Europe/Berlin
X-MS-OLK-FORCEINSPECTOROPEN:TRUE
BEGIN:VTIMEZONE
TZID:Europe/Berlin
BEGIN:STANDARD
DTSTART:19701025T030000
TZOFFSETFROM:+0200
TZOFFSETTO:+0100
RRULE:FREQ=YEARLY;BYDAY=-1SU;BYMONTH=10
TZNAME:CET
END:STANDARD
BEGIN:DAYLIGHT
DTSTART:19700329T020000
TZOFFSETFROM:+0100
TZOFFSETTO:+0200
RRULE:FREQ=YEARLY;BYDAY=-1SU;BYMONTH=3
TZNAME:CEST
END:DAYLIGHT
END:VTIMEZONE
BEGIN:VEVENT
UID:20240418T090000-741967@evangelische-termine.de
DTSTAMP:20260419T223740Z
DESCRIPTION:\nKirchenkreis: überregional\nArt der Veranstaltung: Fortbildun
 gen / Seminare / Vorträge\nVeranstaltungsort: Ev. Erwachsenenbildungswerk 
 Rheinland-Süd e.V.\, Simmern\nHerzog-Reichard-Str. 30\n55469 Simmern\nKurz
 beschreibung / Untertitel: Die Themen zur Inklusion werden in den drei Tag
 en beleuchtet und es wird gemeinsam nach Lösungen und Perspektiven gesucht
 .\nAusführliche Beschreibung: Im Zuge der Inklusion werden in Zukunft imme
 r häufiger Kinder mit einer Behinderung eine Kindertagesstätte besuchen. F
 ür Erzieher*innen ist dies eine große Herausforderung\, stehen Sie doch of
 tmals vor einer Fülle von Fragen und Unklarheiten. Dazu gehören in erster 
 Linie inhaltliche Themen z.B. nach der Art der Behinderung. Dazu kommen of
 t pädagogische Fragestellungen\, z.B. wie entdecke ich Fördermöglichkeiten
  oder die Frage\, ob ein Verhalten jetzt „behinderungsspezifisch“ oder „er
 lernt“ ist.\nDiese Themen werden in den drei Tagen beleuchtet und es wird 
 gemeinsam nach Lösungen und Perspektiven gesucht. Dabei wird eine besonder
 e Rücksicht auf die individuellen Themen genommen\, mit denen Sie aus der 
 Praxis in diese Fortbildung kommen.\nZiel der Fortbildung ist es\, dass Si
 e einen Einblick in die fachlichen Grundlagen der Heilpädagogik erhalten. 
 Sie lernen aber auch die Grenzen der Heilpädagogik für Ihren beruflichen K
 ita-Alltag kennen. \nSie entwickeln pädagogische Ansätze im Umgang mit bee
 inträchtigten Kindern und erweitern so ihre persönlichen Kompetenzen. Dami
 t erhalten Sie Handlungssicherheit im Umgang mit Kindern\, Kolleg*innen un
 d Eltern.\nDie Themen sind an Ihren Interessen ausgerichtet\, d.h. Schwerp
 unkt bilden die Fragen und Interessen der Teilnehmenden. \n\nFlankierend w
 erden folgende Aspekte in den Blick genommen:\n>	Grundlagen der Heilpädagog
 ik (Begrifflichkeiten\, Paradigmenwechsel\, Inklusion etc.)\n>	Mein Bild vo
 n Behinderung – Etikettierung\n>	Formen und Ausprägungen einzelner Behinder
 ungsbilder \n	(z.B. Autismus\, Down-Syndrom)\n>	Verhaltensauffälligkeiten ve
 rstehen und angemessen reagieren\n>	Kindgerechte und ressourcenorientierte 
 Angebote entwickeln\nBei Bedarf können noch weitere Fortbildungstage im An
 schluss vereinbart werden.\n\nTermine: Donnerstag\, 18.04.\, 25.04.\, 02.0
 5.2024\, 9.00 bis 16.30 Uhr\nFörderbereich: Arbeitswelt- und berufsbezogen
 e Weiterbildung\nReferent/in: Rüdiger Grab\, Sozialpädagoge\nKosten: 210\,
 – €\nZusatzinformationen: Anmeldung bis zum 04.04.2024\n: \nAnsprechpartne
 r: Carola Schick eeb-sued@eeb-sued.de
DTSTART;TZID=Europe/Berlin:20240418T090000
DTEND;TZID=Europe/Berlin:20240418T163000
LOCATION:Simmern: Ev. Erwachsenenbildungswerk Rheinland-Süd e.V.\, Simmern
SUMMARY:- ABGESAGT -„Alle gehören dazu!“ Heilpädagogisches Handeln im Kita-
 Alltag :: Die Themen zur Inklusion werden in den drei Tagen beleuchtet und
  es wird gemeinsam nach Lösungen und Perspektiven gesucht.
URL:https://termine.ekir.de/veranstaltung_im_detail741967.html
END:VEVENT
END:VCALENDAR
