BEGIN:VCALENDAR
VERSION:2.0
PRODID:-//evangelische-termine.de//NONSGML kigkonsult.se iCalcreator 2.18//
CALSCALE:GREGORIAN
METHOD:PUBLISH
X-WR-CALNAME:iCal Evangelische-Termine 20.04.2026
X-WR-CALDESC:iCalender von Evangelische-Termine (20.04.2026)
X-WR-TIMEZONE:Europe/Berlin
X-MS-OLK-FORCEINSPECTOROPEN:TRUE
BEGIN:VTIMEZONE
TZID:Europe/Berlin
BEGIN:STANDARD
DTSTART:19701025T030000
TZOFFSETFROM:+0200
TZOFFSETTO:+0100
RRULE:FREQ=YEARLY;BYDAY=-1SU;BYMONTH=10
TZNAME:CET
END:STANDARD
BEGIN:DAYLIGHT
DTSTART:19700329T020000
TZOFFSETFROM:+0100
TZOFFSETTO:+0200
RRULE:FREQ=YEARLY;BYDAY=-1SU;BYMONTH=3
TZNAME:CEST
END:DAYLIGHT
END:VTIMEZONE
BEGIN:VEVENT
UID:20240503T090000-741968@evangelische-termine.de
DTSTAMP:20260419T224425Z
DESCRIPTION:\nKirchenkreis: überregional\nArt der Veranstaltung: Fortbildun
 gen / Seminare / Vorträge\nVeranstaltungsort: Ev. Erwachsenenbildungswerk 
 Rheinland-Süd e.V.\, Simmern\nHerzog-Reichard-Str. 30\n55469 Simmern\nKurz
 beschreibung / Untertitel: Zielgruppe: Pädagogische Fachkräfte\, die die A
 ufgaben der Fachkraft für Kinderperspektiven in ihrer Kita übernommen habe
 n oder in Zukunft übernehmen möchten.\nAusführliche Beschreibung: Die Fach
 kraft für Kinderperspektiven hat die Aufgaben\, die Sichtweise der Kinder 
 in den Kita-Beirat mit einzubringen. Laut Handreichung zum Kita-Beirat ist
  sie Sprecher*in der im pädagogischen Alltag gewonnen Perspektiven der Kin
 der. Sie sorgt dafür\, dass – je nach Thema und Altersgruppe – eine geziel
 te Partizipationsmaßnahme zu einem Themenbereich erfolgt und die Ergebniss
 e der Begleitung und Beobachtung der Kinder sowie der sonstigen Partizipat
 ionsformen der Kita erfasst und im Kita-Beirat eingebracht werden (Hrsg. v
 om Institut für Bildung\, Erziehung und Betreuung in der Kindheit\; RLP (I
 BEB)\, Hochschule Koblenz\, Prof. Dr. Armin Schneider\, für den Kita-Tag d
 er Spitzen RLP)\n\nDie pädagogischen Fachkräfte werden innerhalb der Fortb
 ildung unterstützt\n>	sich inhaltlich mit ihrer Rolle als FakiB auseinander
 zusetzen und \nUmsetzungsmöglichkeiten in ihrer Einrichtung zu entwickeln\
 ;\n>	Partizipation mit Kindern in Bezug auf das alltägliche Leben in der Ki
 ta zu reflektieren\;\n>	sich mit der neuen Rolle im Team auseinanderzusetze
 n und dieses einzubinden\;\n>	Fach- und Methodenkompetenz zu entwickeln\;\n
 >	verschiedene Methoden der Beobachtung\, Dokumentation und Auswertung \nke
 nnenzulernen\;\n>	ihre Kommunikationskompetenz im Dialog mit Kindern weiter
  auszubauen.\n\nIn dieser Fortbildung möchten wir an die ersten Erfahrunge
 n der Fachkräfte aus ihrer Praxis als FaKiB anknüpfen und gemeinsam Method
 en und Ideen weiterentwickeln mit dem Ziel \, die Rolle der FakiB bestmögl
 ich in den Kitas auszufüllen und die Perspektiven der Kinder zu erheben.\n
 Förderbereich: Arbeitswelt- und berufsbezogene Weiterbildung\nReferent/in:
  Anja Dörr\, Fachkraft und Multiplikatorin für den Situationsansatz\nKoste
 n: 80\,– €\nZusatzinformationen: Anmeldung bis 19.04.2024\n: \nAnsprechpar
 tner: Carola Schick eeb-sued@eeb-sued.de
DTSTART;TZID=Europe/Berlin:20240503T090000
DTEND;TZID=Europe/Berlin:20240503T163000
LOCATION:Simmern: Ev. Erwachsenenbildungswerk Rheinland-Süd e.V.\, Simmern
SUMMARY:– ABGESAGT – FakiB – was bedeutet das in der Umsetzung  in der päda
 gogischen Praxis? :: Zielgruppe: Pädagogische Fachkräfte\, die die Aufgabe
 n der Fachkraft für Kinderperspektiven in ihrer Kita übernommen haben oder
  in Zukunft übernehmen m
URL:https://termine.ekir.de/veranstaltung_im_detail741968.html
END:VEVENT
END:VCALENDAR
