BEGIN:VCALENDAR
VERSION:2.0
PRODID:-//evangelische-termine.de//NONSGML kigkonsult.se iCalcreator 2.18//
CALSCALE:GREGORIAN
METHOD:PUBLISH
X-WR-CALNAME:iCal Evangelische-Termine 20.04.2026
X-WR-CALDESC:iCalender von Evangelische-Termine (20.04.2026)
X-WR-TIMEZONE:Europe/Berlin
X-MS-OLK-FORCEINSPECTOROPEN:TRUE
BEGIN:VTIMEZONE
TZID:Europe/Berlin
BEGIN:STANDARD
DTSTART:19701025T030000
TZOFFSETFROM:+0200
TZOFFSETTO:+0100
RRULE:FREQ=YEARLY;BYDAY=-1SU;BYMONTH=10
TZNAME:CET
END:STANDARD
BEGIN:DAYLIGHT
DTSTART:19700329T020000
TZOFFSETFROM:+0100
TZOFFSETTO:+0200
RRULE:FREQ=YEARLY;BYDAY=-1SU;BYMONTH=3
TZNAME:CEST
END:DAYLIGHT
END:VTIMEZONE
BEGIN:VEVENT
UID:20240506T090000-741969@evangelische-termine.de
DTSTAMP:20260419T223711Z
DESCRIPTION:\nKirchenkreis: überregional\nArt der Veranstaltung: Fortbildun
 gen / Seminare / Vorträge\nVeranstaltungsort: Ev. Erwachsenenbildungswerk 
 Rheinland-Süd e.V.\, Simmern\nHerzog-Reichard-Str. 30\n55469 Simmern\nKurz
 beschreibung / Untertitel: Ein leichter Zugang zu rhythmischen Grundlagen
 \nAusführliche Beschreibung: Die Ukulele ist in letzter Zeit sehr populär 
 geworden. Sie ist ein ideales Instrument für Kindergarten und Schule und i
 st leicht zu transportieren. Das Instrument hat nur vier Saiten und ist al
 s Begleitinstrument schnell zu erlernen. Sie hilft\, den Kindern eine rhyt
 hmische Grundlage zu geben. Sie kann hervorragend das Singen und Spielen d
 er Kinder anregen. Sie ähnelt in der Bauart der Gitarre\, hat aber einen v
 iel kleineren Korpus und klingt höher. Es gibt sie mit verschiedenen Stimm
 ungen. Die Saiten-Variante mit G\, C\, E\, A hat den Vorteil\, dass die Ak
 korde sehr kompatibel sind zu den Orff-Instrumenten wie Xylofon\, Glockens
 piel oder Klangbausteine sowie der C-Flöte. Das bedeutet\, dass Akkorde wi
 e C-Dur\, F-Dur und G-Dur relativ leicht zu greifen sind.\nInnerhalb eines
  Tagesseminars sollen in dieser Fortbildung die wichtigsten Grundlagen des
  Spiels mit der Ukulele samt Praxisbeispielen aus der Kinderlied-Szene era
 rbeitet werden. Wir wollen uns auf überschaubare harmonische Grundlagen be
 schränken. Es geht los mit dem Stimmen\, dann kommen die Haltungen des Ins
 trumentes und die ersten Lieder mit einer Harmonie. Im weiteren Verlauf de
 r Veranstaltung werden die ersten Akkorde gewechselt. Einfache traditionel
 le sowie neu geschriebene Stücke stehen auf dem Programm. Es gibt außerdem
  Hinweise zum Transponieren und zum Einsatz eines Kapodasters.\n\nEs sind 
 keine Notenkenntnisse erforderlich. Weiterhin werden Hinweise zum Singen m
 it Kindern gegeben. Im Mittelpunkt stehen einfach zu spielende Griffe sowi
 e einfachste Zupf- und Schlagtechniken.\n\nWenn möglich\, bitte eine Ukule
 le mitbringen! \nEs gibt aber auch einige Exemplare zum Ausleihen.\nFörder
 bereich: Arbeitswelt- und berufsbezogene Weiterbildung\nReferent/in: Wolfg
 ang Hering\nKosten: 80\,– €\nZusatzinformationen: Anmeldung bis 22.04.2024
 \n: \nAnsprechpartner: Carola Schick eeb-sued@eeb-sued.de
DTSTART;TZID=Europe/Berlin:20240506T090000
DTEND;TZID=Europe/Berlin:20240506T163000
LOCATION:Simmern: Ev. Erwachsenenbildungswerk Rheinland-Süd e.V.\, Simmern
SUMMARY:– ABGESAGT – Ukulele – leicht gelernt :: Ein leichter Zugang zu rhy
 thmischen Grundlagen
URL:https://termine.ekir.de/veranstaltung_im_detail741969.html
END:VEVENT
END:VCALENDAR
