BEGIN:VCALENDAR
VERSION:2.0
PRODID:-//evangelische-termine.de//NONSGML kigkonsult.se iCalcreator 2.18//
CALSCALE:GREGORIAN
METHOD:PUBLISH
X-WR-CALNAME:iCal Evangelische-Termine 20.04.2026
X-WR-CALDESC:iCalender von Evangelische-Termine (20.04.2026)
X-WR-TIMEZONE:Europe/Berlin
X-MS-OLK-FORCEINSPECTOROPEN:TRUE
BEGIN:VTIMEZONE
TZID:Europe/Berlin
BEGIN:STANDARD
DTSTART:19701025T030000
TZOFFSETFROM:+0200
TZOFFSETTO:+0100
RRULE:FREQ=YEARLY;BYDAY=-1SU;BYMONTH=10
TZNAME:CET
END:STANDARD
BEGIN:DAYLIGHT
DTSTART:19700329T020000
TZOFFSETFROM:+0100
TZOFFSETTO:+0200
RRULE:FREQ=YEARLY;BYDAY=-1SU;BYMONTH=3
TZNAME:CEST
END:DAYLIGHT
END:VTIMEZONE
BEGIN:VEVENT
UID:20240507T090000-741972@evangelische-termine.de
DTSTAMP:20260419T223612Z
DESCRIPTION:\nKirchenkreis: überregional\nArt der Veranstaltung: Fortbildun
 gen / Seminare / Vorträge\nVeranstaltungsort: Ev. Erwachsenenbildungswerk 
 Rheinland-Süd e.V.\, Simmern\nHerzog-Reichard-Str. 30\n55469 Simmern\nKurz
 beschreibung / Untertitel: Die Digitalisierung schreitet voran. Kommen wir
  noch mit?\nAusführliche Beschreibung: In diesem Workshop geht es um die S
 chulung von Erzieher*innen und Grundschullehrer*innen\, um Eltern zu unter
 stützen\, ein gesundes Medienkonsumverhalten selbst wahrzunehmen und ihre 
 Kinder dabei zu begleiten\, ihren eigenen Medienkonsum verantwortungsbewus
 st zu erlernen.\n\nMit kleinen eigenen Experimenten\, der Einführung in ki
 ndgerechte Software\, Spiele und Apps sowie ein kleiner Exkurs in die Gehi
 rnentwicklung durch Medien in Bezug auf Kinder sollen die Teilnehmer*innen
  Sicherheit im eigenen Umgang mit Medien und auch im sicheren Auftreten\, 
 den Eltern gegenüber erlangen.\n\nThemen:\n>	Apps \n>	Datensammler\n>	Kinderg
 efährdende Inhalte\n>	Gehirnentwicklung durch Medien in Bezug auf Kinder\n>
 	Kindersicherungen\n>	Reflexion zum Medienkonsum\nFörderbereich: Arbeitswelt
 - und berufsbezogene Weiterbildung\nReferent/in: Lena Lorenz\, Medienpädag
 ogin und Carola Schick\, Bildungsreferentin\nKosten: 80\,– €\nZusatzinform
 ationen: Anmeldung bis 23.04.2024\n: \nAnsprechpartner: Carola Schick eeb-
 sued@eeb-sued.de
DTSTART;TZID=Europe/Berlin:20240507T090000
DTEND;TZID=Europe/Berlin:20240507T163000
LOCATION:Simmern: Ev. Erwachsenenbildungswerk Rheinland-Süd e.V.\, Simmern
SUMMARY:– ABGESAGT – Medien mit Kindern erleben und  sicher begleiten! :: D
 ie Digitalisierung schreitet voran. Kommen wir noch mit?
URL:https://termine.ekir.de/veranstaltung_im_detail741972.html
END:VEVENT
END:VCALENDAR
