BEGIN:VCALENDAR
VERSION:2.0
PRODID:-//evangelische-termine.de//NONSGML kigkonsult.se iCalcreator 2.18//
CALSCALE:GREGORIAN
METHOD:PUBLISH
X-WR-CALNAME:iCal Evangelische-Termine 20.04.2026
X-WR-CALDESC:iCalender von Evangelische-Termine (20.04.2026)
X-WR-TIMEZONE:Europe/Berlin
X-MS-OLK-FORCEINSPECTOROPEN:TRUE
BEGIN:VTIMEZONE
TZID:Europe/Berlin
BEGIN:STANDARD
DTSTART:19701025T030000
TZOFFSETFROM:+0200
TZOFFSETTO:+0100
RRULE:FREQ=YEARLY;BYDAY=-1SU;BYMONTH=10
TZNAME:CET
END:STANDARD
BEGIN:DAYLIGHT
DTSTART:19700329T020000
TZOFFSETFROM:+0100
TZOFFSETTO:+0200
RRULE:FREQ=YEARLY;BYDAY=-1SU;BYMONTH=3
TZNAME:CEST
END:DAYLIGHT
END:VTIMEZONE
BEGIN:VEVENT
UID:20240523T090000-741973@evangelische-termine.de
DTSTAMP:20260419T223613Z
DESCRIPTION:\nKirchenkreis: überregional\nArt der Veranstaltung: Fortbildun
 gen / Seminare / Vorträge\nVeranstaltungsort: Ev. Erwachsenenbildungswerk 
 Rheinland-Süd e.V.\, Simmern\nHerzog-Reichard-Str. 30\n55469 Simmern\nKurz
 beschreibung / Untertitel: Welchen neuen Anforderungen haben sich Praktika
 nt*innen und Anleiter*innen zu stellen?\nAusführliche Beschreibung: Die Au
 sbildung zur Erzieherin/zum Erzieher ist reformiert worden. Die Fachschule
 n für \nSozialwesen haben neue Rahmenpläne entwickelt und arbeiten nach mo
 dularen Unterrichtssystemen. Wir bilden nicht nur BerufspraktikantInnen\, 
 sondern auch Sozialassistent*innen aus. Wie wirkt sich das auf die Praxisa
 nleitung in der Kindertagesstätte aus? Welchen neuen Anforderungen haben s
 ich Praktikant*innen und Anleiter*innen zu stellen?\nIn Anlehnung an die t
 rägerübergreifende Rahmenvereinbarung zur Praxisanleitung in Rheinland-Pfa
 lz tasten wir uns in sieben Fortbildungstagen an die Herausforderung Praxi
 sanleitung in Theorie und Praxis heran.\nInhalte werden sein:\n>	Die Orient
 ierungsphase im Praktikum\n>	Entwicklungspsychologische Situationen der Pra
 ktikant/innen\n>	Reflexion der eigenen Rolle als Anleiter/in\n>	Einstellungs
 gespräch\n>	Ausbildungsplan/Ausbildungsrahmenplan: Das Erstgespräch\n>	Die E
 rprobungsphase\n>	Methoden der erfolgreichen Gesprächsführung\n>	Aufgaben un
 d Anforderungen der Schule\n>	Die Projektarbeit\n>	Methoden der Beobachtung
 \n>	Die Verselbständigungsphase\n>	Aufsichtspflicht bei Berufspraktikant/inn
 en\n>	Das Beurteilungsgespräch\, die Beurteilungskriterien\n>	Der Erfahrungs
 bericht\n>	Abschiedsphase\, Gestaltung des Abschieds mit Kindern\, Eltern\,
  Erzieherinnen\n>	Abschlussbewertung / Schreiben eines qualifizierten Zeugn
 isses\n\nTermine:\nDonnerstag\, 23.05. bis Freitag\, 24.05.2024\, jeweils 
 9.00 bis 16.30 Uhr\nDonnerstag\, 12.09. bis Freitag\, 13.09.2024\, jeweils
  9.00 bis 16.30 Uhr\nFreitag\, 08.11.2024 + 2 Termine in 2025\, jeweils 9.
 00 bis 16.30 Uhr\nFörderbereich: Arbeitswelt- und berufsbezogene Weiterbil
 dung\nReferent/in: Ingo Klein\, Fachberater und Erzieher\nKosten: 490\,– €
 \nZusatzinformationen: Leider ausgebucht! Nur noch Warteliste möglich. Ruf
 en Sie uns an 06761 7018!\n: \nAnsprechpartner: Carola Schick eeb-sued@eeb
 -sued.de
DTSTART;TZID=Europe/Berlin:20240523T090000
DTEND;TZID=Europe/Berlin:20240523T163000
LOCATION:Simmern: Ev. Erwachsenenbildungswerk Rheinland-Süd e.V.\, Simmern
RRULE:FREQ=DAILY;UNTIL=20240524T235900Z;INTERVAL=1;WKST=SU
SUMMARY:Berufspraktikanten anleiten und beraten – AUSGEBUCHT! – :: Welchen 
 neuen Anforderungen haben sich Praktikant*innen und Anleiter*innen zu stel
 len?
URL:https://termine.ekir.de/veranstaltung_im_detail741973.html
END:VEVENT
END:VCALENDAR
