BEGIN:VCALENDAR
VERSION:2.0
PRODID:-//evangelische-termine.de//NONSGML kigkonsult.se iCalcreator 2.18//
CALSCALE:GREGORIAN
METHOD:PUBLISH
X-WR-CALNAME:iCal Evangelische-Termine 20.04.2026
X-WR-CALDESC:iCalender von Evangelische-Termine (20.04.2026)
X-WR-TIMEZONE:Europe/Berlin
X-MS-OLK-FORCEINSPECTOROPEN:TRUE
BEGIN:VTIMEZONE
TZID:Europe/Berlin
BEGIN:STANDARD
DTSTART:19701025T030000
TZOFFSETFROM:+0200
TZOFFSETTO:+0100
RRULE:FREQ=YEARLY;BYDAY=-1SU;BYMONTH=10
TZNAME:CET
END:STANDARD
BEGIN:DAYLIGHT
DTSTART:19700329T020000
TZOFFSETFROM:+0100
TZOFFSETTO:+0200
RRULE:FREQ=YEARLY;BYDAY=-1SU;BYMONTH=3
TZNAME:CEST
END:DAYLIGHT
END:VTIMEZONE
BEGIN:VEVENT
UID:20241122T090000-741983@evangelische-termine.de
DTSTAMP:20260419T225838Z
DESCRIPTION:\nKirchenkreis: überregional\nArt der Veranstaltung: Fortbildun
 gen / Seminare / Vorträge\nVeranstaltungsort: Ev. Erwachsenenbildungswerk 
 Rheinland-Süd e.V.\, Simmern\nHerzog-Reichard-Str. 30\n55469 Simmern\nKurz
 beschreibung / Untertitel: Qualifizierung für sprachliche Bildung in Kitas
  in Rheinland-Pfalz (9 Module)\nAusführliche Beschreibung: Um zu gewährlei
 sten\, dass die sprachliche Bildung in Kitas auf hohem Niveau durchgeführt
  wird\, wurde das Projekt „Qualifizierung von Sprachförderkräften“ in Rhei
 nland-Pfalz konzipiert. Die Qualifizierung erfolgt nach dem weiterentwicke
 lten Rahmencurriculum des Landes zur sprachlichen Bildung in Kitas „Mit Ki
 ndern im Gespräch – Strategien zur sprachlichen Bildung von Kindern in Kin
 dertageseinrichtungen”. Der Fokus liegt auf der Interaktion als Motor mens
 chlicher Entwicklung und auf dem systematischen Einsatz von Sprachförder­s
 trategien in Schlüsselsituationen des Kita-Alltags. Das Konzept unterstütz
 t die Fachkräfte dabei\, systematisch ihre Sprachförderkompetenz auszubaue
 n und in der Arbeit mit Kindern anzuwenden. \nDie ersten Module 1-3 des ne
 uen Qualifizierungskonzeptes richten sich auch an Sprachförderkräfte\, die
  bereits die Qualifizierungsreihe „Sprache-Schlüssel zur Welt“ absolviert 
 haben und einen Einblick in das Basiswissen des neuen Konzeptes bekommen m
 öchten.\nDie erfolgreiche Absolvierung der neuen Module der gesamten Quali
 fizierung führt zum Erlangen des Abschlusszertifikates. Diese Qualifizieru
 ng sollten Sprachbeauftragte der Kitas absolvieren. Den Kita-Teams wird em
 pfohlen\, sich in das Konzept einzuarbeiten. Details dazu auf der Website 
 des Landes Rheinland-Pfalz: kita.rlp.de unter \ndem Stichwort: Sprachförde
 rung\nInhalte\nModul 1: 20.09.2024	(Frage- und Modellierungsstrategien) in 
 Präsenz\nModul 2: 27.09.2024	(Strategien zur Konzeptentwicklung)\nModul 3: 
 15.11.2024       (Rückmeldestrategien)\nModul 4: 22.11.2024	(Lesesituatione
 n)\nModul 5: 06.12.2024	(Routinesituationen)\nModul 6: 14.02.2025	(Gezielte 
 Aktivitäten)\nModul 7: 07.03.2025	(Rollenspiele)\nModul 8: 28.03.2025	(Spont
 ane Sprechanlässe)\nModul 9: Termin noch nicht bekannt	(Markt & Möglichkeit
 en) in Präsenz\n\nDer erste Termin und der letzte Termin finden in Präsenz
  in Simmern statt. Die anderen Termine werden online stattfinden.\nFörderb
 ereich: Arbeitswelt- und berufsbezogene Weiterbildung\nReferent/in: Dr. Ew
 a Schmied\, Diplom-Pädagogin\, Sprachheilpädagogin\nKosten: 630\,– €\nZusa
 tzinformationen: Anmeldung bis 10.09.2024\n: \nAnsprechpartner: Carola Sch
 ick eeb-sued@eeb-sued.de
DTSTART;TZID=Europe/Berlin:20241122T090000
DTEND;TZID=Europe/Berlin:20241122T163000
LOCATION:Simmern: Ev. Erwachsenenbildungswerk Rheinland-Süd e.V.\, Simmern
SUMMARY:Mit Kindern im Gespräch – gestartet im September 2024 :: Qualifizie
 rung für sprachliche Bildung in Kitas in Rheinland-Pfalz (9 Module)
URL:https://termine.ekir.de/veranstaltung_im_detail741983.html
END:VEVENT
END:VCALENDAR
