BEGIN:VCALENDAR
VERSION:2.0
PRODID:-//evangelische-termine.de//NONSGML kigkonsult.se iCalcreator 2.18//
CALSCALE:GREGORIAN
METHOD:PUBLISH
X-WR-CALNAME:iCal Evangelische-Termine 20.04.2026
X-WR-CALDESC:iCalender von Evangelische-Termine (20.04.2026)
X-WR-TIMEZONE:Europe/Berlin
X-MS-OLK-FORCEINSPECTOROPEN:TRUE
BEGIN:VTIMEZONE
TZID:Europe/Berlin
BEGIN:STANDARD
DTSTART:19701025T030000
TZOFFSETFROM:+0200
TZOFFSETTO:+0100
RRULE:FREQ=YEARLY;BYDAY=-1SU;BYMONTH=10
TZNAME:CET
END:STANDARD
BEGIN:DAYLIGHT
DTSTART:19700329T020000
TZOFFSETFROM:+0100
TZOFFSETTO:+0200
RRULE:FREQ=YEARLY;BYDAY=-1SU;BYMONTH=3
TZNAME:CEST
END:DAYLIGHT
END:VTIMEZONE
BEGIN:VEVENT
UID:20240905T090000-741985@evangelische-termine.de
DTSTAMP:20260420T003438Z
DESCRIPTION:\nKirchenkreis: überregional\nArt der Veranstaltung: Fortbildun
 gen / Seminare / Vorträge\nVeranstaltungsort: Ev. Erwachsenenbildungswerk 
 Rheinland-Süd e.V.\, Simmern\nHerzog-Reichard-Str. 30\n55469 Simmern\nKurz
 beschreibung / Untertitel: Finden Sie heraus\, wie ihr persönlicher Krafto
 rt aussehen kann und was Sie ohne viel Aufwand zur eigenen Psychohygiene b
 eisteuern können.\nAusführliche Beschreibung: „Lasst uns alle etwas liebev
 oller mit uns selbst umgehen“ \n	Gerald Hüther\n\nIch glaube\, wir alle ken
 nen überfüllte Gruppen- und Funktionsräume\, in denen Lautstärken im höher
 en Dezibelbereich erreicht werden. Wir\, als pädagogische Fachkräfte\, lei
 sten tagtäglich wahre kleine Wunder und finden immer einen Weg\, uns den G
 egebenheiten anzupassen und dennoch den persönlichen Anspruch an unsere Ar
 beit nicht zu verlieren. Hilfreich für stressige Tage sind kleine Übungen\
 , Meditationen und Imagination\, die uns Kraft geben\, uns zu fokussieren 
 und etwas durchatmen lassen.\n\nLasst uns gemeinsam herausfinden\, wie dei
 n persönlicher Kraftort ausehen kann und was du ohne viel Aufwand zur eige
 nen Psyhohygiene beisteuern kannst.\n\nPraktische Übungen beinhalten:\n>	At
 emübungen\n>	Meditationen\n>	Mudras (Fingeryoga)\n>	Fantasiereisen\n>	Progress
 ive Muskelentspannung\n>	Kreative Aktivitäten\n>	Gruppenarbeiten\n\nBei gute
 n Wetterverhältnissen können einzelne Übungen im Freien stattfinden. \nMit
 zubringen sind eine Unterlage/Matte\, Kissen\, Decke und warme Socken\nFör
 derbereich: Arbeitswelt- und berufsbezogene Weiterbildung\nReferent/in: Ca
 rina Stützel\, Erzieherin\, Entspannungspädagogin und Fachkraft für offene
  Arbeit\nKosten: 80\,– €\nZusatzinformationen: Anmeldung bis 22.08.2024\n:
  \nAnsprechpartner: Carola Schick eeb-sued@eeb-sued.de
DTSTART;TZID=Europe/Berlin:20240905T090000
DTEND;TZID=Europe/Berlin:20240905T163000
LOCATION:Simmern: Ev. Erwachsenenbildungswerk Rheinland-Süd e.V.\, Simmern
SUMMARY:Auszeit zum Kraft tanken und Wohlfühlen – Dein persönlicher Kraftor
 t :: Finden Sie heraus\, wie ihr persönlicher Kraftort aussehen kann und w
 as Sie ohne viel Aufwand zur eigenen Psychohygiene beisteuern können.
URL:https://termine.ekir.de/veranstaltung_im_detail741985.html
END:VEVENT
END:VCALENDAR
