BEGIN:VCALENDAR
VERSION:2.0
PRODID:-//evangelische-termine.de//NONSGML kigkonsult.se iCalcreator 2.18//
CALSCALE:GREGORIAN
METHOD:PUBLISH
X-WR-CALNAME:iCal Evangelische-Termine 20.04.2026
X-WR-CALDESC:iCalender von Evangelische-Termine (20.04.2026)
X-WR-TIMEZONE:Europe/Berlin
X-MS-OLK-FORCEINSPECTOROPEN:TRUE
BEGIN:VTIMEZONE
TZID:Europe/Berlin
BEGIN:STANDARD
DTSTART:19701025T030000
TZOFFSETFROM:+0200
TZOFFSETTO:+0100
RRULE:FREQ=YEARLY;BYDAY=-1SU;BYMONTH=10
TZNAME:CET
END:STANDARD
BEGIN:DAYLIGHT
DTSTART:19700329T020000
TZOFFSETFROM:+0100
TZOFFSETTO:+0200
RRULE:FREQ=YEARLY;BYDAY=-1SU;BYMONTH=3
TZNAME:CEST
END:DAYLIGHT
END:VTIMEZONE
BEGIN:VEVENT
UID:20240914T090000-741986@evangelische-termine.de
DTSTAMP:20260420T002202Z
DESCRIPTION:\nKirchenkreis: überregional\nArt der Veranstaltung: Fortbildun
 gen / Seminare / Vorträge\nVeranstaltungsort: Ev. Erwachsenenbildungswerk 
 Rheinland-Süd e.V.\, Simmern\nHerzog-Reichard-Str. 30\n55469 Simmern\nKurz
 beschreibung / Untertitel: KiTa-Leiterungstag\nAusführliche Beschreibung: 
 Für dieses Jahr ist wieder eine Leiter*innen-Tagung geplant. Sie dient ein
 erseits der fachlichen Information durch Referent*innen und Vorträgen\, an
 dererseits der kollegialen Beratung unter Kolleg*innen aus den verschieden
 en Kreisen. Es kommen immer wieder neue Gesichter hinzu\, und es ist durch
  die kurzfristige Anmeldung jederzeit möglich\, mit einzusteigen.\nSollte 
 etwas politisches und rechtlich Neues geplant sein\, können Sie sich Infor
 mationen beschaffen und ein eigenes Urteil bilden. Wir laden kompetente Re
 ferenten/Referentinnen aus Politik\, Pädagogik und Verwaltung ein.\nFörder
 bereich: Arbeitswelt- und berufsbezogene Weiterbildung\nReferent/in: Ingo 
 Klein\, Fachberater und Erzieher\nKosten: 80\,– €\n: \nAnsprechpartner: Ca
 rola Schick eeb-sued@eeb-sued.de
DTSTART;TZID=Europe/Berlin:20240914T090000
DTEND;TZID=Europe/Berlin:20240914T163000
LOCATION:Simmern: Ev. Erwachsenenbildungswerk Rheinland-Süd e.V.\, Simmern
SUMMARY:Austausch für die KiTa-Leitungen :: Tag für die KiTa-Leitung
URL:https://termine.ekir.de/veranstaltung_im_detail741986.html
END:VEVENT
END:VCALENDAR
