BEGIN:VCALENDAR
VERSION:2.0
PRODID:-//evangelische-termine.de//NONSGML kigkonsult.se iCalcreator 2.18//
CALSCALE:GREGORIAN
METHOD:PUBLISH
X-WR-CALNAME:iCal Evangelische-Termine 20.04.2026
X-WR-CALDESC:iCalender von Evangelische-Termine (20.04.2026)
X-WR-TIMEZONE:Europe/Berlin
X-MS-OLK-FORCEINSPECTOROPEN:TRUE
BEGIN:VTIMEZONE
TZID:Europe/Berlin
BEGIN:STANDARD
DTSTART:19701025T030000
TZOFFSETFROM:+0200
TZOFFSETTO:+0100
RRULE:FREQ=YEARLY;BYDAY=-1SU;BYMONTH=10
TZNAME:CET
END:STANDARD
BEGIN:DAYLIGHT
DTSTART:19700329T020000
TZOFFSETFROM:+0100
TZOFFSETTO:+0200
RRULE:FREQ=YEARLY;BYDAY=-1SU;BYMONTH=3
TZNAME:CEST
END:DAYLIGHT
END:VTIMEZONE
BEGIN:VEVENT
UID:20240926T090000-741987@evangelische-termine.de
DTSTAMP:20260420T000853Z
DESCRIPTION:\nKirchenkreis: überregional\nArt der Veranstaltung: Fortbildun
 gen / Seminare / Vorträge\nVeranstaltungsort: Ev. Erwachsenenbildungswerk 
 Rheinland-Süd e.V.\, Simmern\nHerzog-Reichard-Str. 30\n55469 Simmern\nKurz
 beschreibung / Untertitel: Vom Erzählen mit Bildkarten und Figuren – Märch
 en\, thematische Bilderbücher\, biblische Geschichten und Sachgeschichten
 \nAusführliche Beschreibung: Das Kamishibai ist ein aus Japan stammendes E
 rzähltheater. Wer es einmal erlebt hat\, versteht den Zauber\, der von die
 sem Medium ausgeht. Kino im Kopf – das ist Kamishibai. Diese Methode des b
 ildgstützten Erzählens ist bei Kindern und Erwachsenen gleichermaßen belie
 bt. Sie ermöglicht Geschichten zu erzählen\, ohne den roten Faden zu verli
 eren. Fantasie und Sprache werden auf spielerische Weise gefördert. \n\nIn
  diesem Workshop erwerben Sie die Grundlagen des Arbeitens mi dem Kamishib
 ai sowie Tipps und Tricks\, wie das Erzählen zum vollen Erfolg wird. Den A
 bschluss bildet das „Bauen“ einer eigenen Geschichte. Die Erzählschiene er
 gänzt das Erzählangebot und bietet vielfältige Möglichkeiten des Einsatzes
 .\n\nErworbene Kompetenzen der Teilnehmer*innen\n>	Sie entdecken das Kamish
 ibai und die Erzählschiene als Einsatzmöglichkeit zum \n	bildgestützten Erz
 ählen\n>	Sie lernen verschiedene Bildkartensets und deren Einsatzmöglichkei
 ten kennen\n>	Sie entwickeln eine kleine Geschichte in der Kleingruppe\n\nF
 ür Mitarbeiter/innen in Tagespflege\, Krippe\, Kitas\, Bibliotheken\, Grun
 dschulen und \nFörderschulen geeignet.\nFörderbereich: Arbeitswelt- und be
 rufsbezogene Weiterbildung\nReferent/in: Simone Jacken\, Pädagogin\, Mitau
 torin eines Kinderbuchs\, Dozentin für Ev. Büchereiarbeit\nKosten: 80\,– €
 \nZusatzinformationen: Anmeldung bis 12.09.2024\n: \nAnsprechpartner: Caro
 la Schick eeb-sued@eeb-sued.de
DTSTART;TZID=Europe/Berlin:20240926T090000
DTEND;TZID=Europe/Berlin:20240926T163000
LOCATION:Simmern: Ev. Erwachsenenbildungswerk Rheinland-Süd e.V.\, Simmern
SUMMARY:Geschichten erzählen mit dem Erzähltheater  und der Erzählschiene :
 : Vom Erzählen mit Bildkarten und Figuren – Märchen\, thematische Bilderbü
 cher\, biblische Geschichten und Sachgeschichten
URL:https://termine.ekir.de/veranstaltung_im_detail741987.html
END:VEVENT
END:VCALENDAR
