BEGIN:VCALENDAR
VERSION:2.0
PRODID:-//evangelische-termine.de//NONSGML kigkonsult.se iCalcreator 2.18//
CALSCALE:GREGORIAN
METHOD:PUBLISH
X-WR-CALNAME:iCal Evangelische-Termine 20.04.2026
X-WR-CALDESC:iCalender von Evangelische-Termine (20.04.2026)
X-WR-TIMEZONE:Europe/Berlin
X-MS-OLK-FORCEINSPECTOROPEN:TRUE
BEGIN:VTIMEZONE
TZID:Europe/Berlin
BEGIN:STANDARD
DTSTART:19701025T030000
TZOFFSETFROM:+0200
TZOFFSETTO:+0100
RRULE:FREQ=YEARLY;BYDAY=-1SU;BYMONTH=10
TZNAME:CET
END:STANDARD
BEGIN:DAYLIGHT
DTSTART:19700329T020000
TZOFFSETFROM:+0100
TZOFFSETTO:+0200
RRULE:FREQ=YEARLY;BYDAY=-1SU;BYMONTH=3
TZNAME:CEST
END:DAYLIGHT
END:VTIMEZONE
BEGIN:VEVENT
UID:20241010T090000-741988@evangelische-termine.de
DTSTAMP:20260420T002351Z
DESCRIPTION:\nKirchenkreis: überregional\nArt der Veranstaltung: Fortbildun
 gen / Seminare / Vorträge\nVeranstaltungsort: Ev. Erwachsenenbildungswerk 
 Rheinland-Süd e.V.\, Simmern\nHerzog-Reichard-Str. 30\n55469 Simmern\nKurz
 beschreibung / Untertitel: Kindeswohl und Kindeswohlgefährdung sind Begrif
 fe\, die im Kita-Alltag immer wieder auftauchen.\nAusführliche Beschreibun
 g: Kindeswohl und Kindeswohlgefährdung sind Begriffe\, die im Kita-Alltag 
 immer wieder auftauchen. Aber was genau verstehen wir unter „Kindeswohl“ u
 nd dessen Gefährdung?\n\nWelche Möglichkeiten gibt es in der Kita\, Gefähr
 dungen zu erkennen und wie gehen wir mit diesen Erkenntnissen um?\n\nDie o
 ben genannten Fragen führen oft zu Verunsicherung. Genau hier soll diese F
 ortbildung ansetzen. Es soll gemeinsam erarbeitet werden\, wie Gefährdunge
 n erkannt werden und wie professionell darauf reagiert werden kann bzw. mu
 ss.\n\nInhalte:\n>	Rechtliche Grundlagen\n>	Kindeswohlgefährdungen erkennen 
 / Formen der Kindeswohlgefährdung\n>	Gewährleistung des Kindeswohls\n>	Konze
 ption => Umsetzung Kinderschutzkonzept\n>	Fazit\nFörderbereich: Arbeitswelt
 - und berufsbezogene Weiterbildung\nReferent/in: Sabine Baumgärtner\, Erzi
 eherin\, Fachkraft U3\, Sozialpädagogin\nKosten: 80\,– €\nZusatzinformatio
 nen: Anmeldung bis 26.09.2024\n: \nAnsprechpartner: Carola Schick eeb-sued
 @eeb-sued.de
DTSTART;TZID=Europe/Berlin:20241010T090000
DTEND;TZID=Europe/Berlin:20241010T163000
LOCATION:Simmern: Ev. Erwachsenenbildungswerk Rheinland-Süd e.V.\, Simmern
SUMMARY:Kindeswohlgefährdungen erkennen und  Kinderschutz umsetzen :: Kinde
 swohl und Kindeswohlgefährdung sind Begriffe\, die im Kita-Alltag immer wi
 eder auftauchen.
URL:https://termine.ekir.de/veranstaltung_im_detail741988.html
END:VEVENT
END:VCALENDAR
