BEGIN:VCALENDAR
VERSION:2.0
PRODID:-//evangelische-termine.de//NONSGML kigkonsult.se iCalcreator 2.18//
CALSCALE:GREGORIAN
METHOD:PUBLISH
X-WR-CALNAME:iCal Evangelische-Termine 19.04.2026
X-WR-CALDESC:iCalender von Evangelische-Termine (19.04.2026)
X-WR-TIMEZONE:Europe/Berlin
X-MS-OLK-FORCEINSPECTOROPEN:TRUE
BEGIN:VTIMEZONE
TZID:Europe/Berlin
BEGIN:STANDARD
DTSTART:19701025T030000
TZOFFSETFROM:+0200
TZOFFSETTO:+0100
RRULE:FREQ=YEARLY;BYDAY=-1SU;BYMONTH=10
TZNAME:CET
END:STANDARD
BEGIN:DAYLIGHT
DTSTART:19700329T020000
TZOFFSETFROM:+0100
TZOFFSETTO:+0200
RRULE:FREQ=YEARLY;BYDAY=-1SU;BYMONTH=3
TZNAME:CEST
END:DAYLIGHT
END:VTIMEZONE
BEGIN:VEVENT
UID:20231116T190000-741998@evangelische-termine.de
DTSTAMP:20260419T193309Z
DESCRIPTION:\nKirchenkreis: Obere Nahe\nArt der Veranstaltung: Fortbildunge
 n / Seminare / Vorträge\nVeranstaltungsort: Gemeindehaus Schneppenbach\nLü
 tzelsoonblick\n55608 Schneppenbach\nKurzbeschreibung / Untertitel: Vortrag
  mit Diskussion mit Henri Juda\nAusführliche Beschreibung: Henri Juda\, ei
 n Zeitzeuge in 2. Generation erzählt in einem 2-stündigen Vortrag\, die \n
 Geschichte seiner jüdischen Familie aus den Jahren 1910 bis 1960. \nIm Foc
 us stehen hier drei Frauen\, der Familie\, seine Mutter und die beiden Gro
 ßmütter. Die Mutter überlebte das Konzentrationslager Auschwitz.\n\nHerr J
 uda hat seine Wurzeln in Bitburg. Er lebt heute in Luxembourg und hat es s
 ich zur Lebensaufgabe gemacht\, über die Gräueltaten der NS-Zeit und die d
 araus resultierenden Ereignisse in seiner Familiengeschichte hautnah und b
 eeindruckend zu erzählen\, um uns teilhaben zu lassen und nicht zu vergess
 en.\n\nDiese Aufarbeitung ist in der momentanen weltpolitischen Situation 
 aktueller\, denn je!\n\nFür die Gründung der Vereinigung „MemoShoah“ und f
 ür sein Engagement gegen das Vergessen wurde Henri Juda von Bundespräsiden
 t Frank-Walter Steinmeier mit dem Verdienstorden der Bundesrepublik Deutsc
 hland ausgezeichnet.\nFörderbereich: Politische Bildung\nReferent/in: Henr
 i Juda\nAnsprechpartner/in - Leitung: Reiner Engelmann\nKosten: kostenlos
 \nZusatzinformationen: unverbindliche Anmeldung unter reiner.engelmann@t-o
 nline.de\nAnsprechpartner: Carola Schick eeb-sued@eeb-sued.de
DTSTART;TZID=Europe/Berlin:20231116T190000
DTEND;TZID=Europe/Berlin:20231116T210000
LOCATION:Schneppenbach: Gemeindehaus Schneppenbach
SUMMARY:Wann\, wenn nicht jetzt! Erinnern an das Vergessen! :: Vortrag mit 
 Diskussion mit Henri Juda
URL:https://termine.ekir.de/veranstaltung_im_detail741998.html
END:VEVENT
END:VCALENDAR
