BEGIN:VCALENDAR
VERSION:2.0
PRODID:-//evangelische-termine.de//NONSGML kigkonsult.se iCalcreator 2.18//
CALSCALE:GREGORIAN
METHOD:PUBLISH
X-WR-CALNAME:iCal Evangelische-Termine 20.04.2026
X-WR-CALDESC:iCalender von Evangelische-Termine (20.04.2026)
X-WR-TIMEZONE:Europe/Berlin
X-MS-OLK-FORCEINSPECTOROPEN:TRUE
BEGIN:VTIMEZONE
TZID:Europe/Berlin
BEGIN:STANDARD
DTSTART:19701025T030000
TZOFFSETFROM:+0200
TZOFFSETTO:+0100
RRULE:FREQ=YEARLY;BYDAY=-1SU;BYMONTH=10
TZNAME:CET
END:STANDARD
BEGIN:DAYLIGHT
DTSTART:19700329T020000
TZOFFSETFROM:+0100
TZOFFSETTO:+0200
RRULE:FREQ=YEARLY;BYDAY=-1SU;BYMONTH=3
TZNAME:CEST
END:DAYLIGHT
END:VTIMEZONE
BEGIN:VEVENT
UID:20231205T190000-743626@evangelische-termine.de
DTSTAMP:20260420T030025Z
DESCRIPTION:\nVeranstalterin: Eine Kooperationsveranstaltung der Evangelisc
 hen Akademie im Rheinland.\nThemenbereich : Wissenschaft\nMehr Information
 en: Viele denken beim Stichwort Krippenspiel zunächst an süße Verkleidunge
 n und niedliche Inszenierungen am Weihnachtsabend in der Kirche. Das Kripp
 enspiel war und ist vielerorts aber viel mehr. Bereits vor 100 Jahren prob
 ten und führten theaterbegeisterte Erwachsene\, Jugendliche und Kinder Kri
 ppenspiele auf. Insbesondere in den Nachkriegsjahren wurden dabei u. a. Kr
 iegserlebnisse und Fragen zum Umgang mit der aktuellen Lebenssituation zum
  Ausdruck gebracht und es entstanden berührende Stücke. Damals wie heute i
 st der Zeitbezug ein besonderes Merkmal evangelischer Aufführungen. \n\nAn
 lass für die Online-Abendveranstaltung ist das Erscheinen der Theatertextr
 eihe „Münchener Laienspiele“ vor 100 Jahren. Deren Stücke und die daraus e
 ntstandenen weiteren Textreihen prägten jahrzehntelang die evangelischen S
 pieler. \n\nWas kennzeichnet das damalige Krippenspiel? Wer schrieb sie? W
 ie entwickelten sich daraus die sogenannten Anspiele? Was ist heute in Kri
 ppenspielen anders? Was ist ähnlich? Welche Zeitbezüge stehen 2023 auf dem
  Krippenspielprogramm? \n\nAn dem Abend wird zunächst Dr. Bettina Förster 
 über das Krippenspiel referieren\, dass bereits mit viel Aufwand und große
 r Resonanz in der Weimarer Republik\, aber auch im „Dritten Reich“ und in 
 der Nachkriegszeit praktiziert wurde. In welcher besonderen Tradition das 
 heutige Krippenspiel steht\, war bis zu ihren Forschungsarbeiten in Verges
 senheit geraten. Es kommen u. a. auch Stücke von den Theologen Ernst Lange
  und Albrecht Goes vor. \nAnschließend werden Lars Schwenzer und Uwe Hausy
  über Trends in aktuellen Krippenspielen berichten.  \n\nVortrag: Dr. Bett
 ina Förster ist Studienleiterin an der Evangelischen Akademie im Rheinland
 . Sie promovierte über die Entwicklung des evangelischen Laienspiels von d
 er Weimarer Republik bis in die Nachkriegszeit. Ihr Buch „Jedermann spielt
 “ ist dieses Jahr erschienen. \n\nImpulsgeber im Interview: Lars Schwenzer
  (Referent für Spiel- und Theaterpädagogik im Landesjugendpfarramt Sachsen
  und im Vorstand des Bundesverbandes Kulturarbeit in der evangelischen Jug
 end e.V.) und Uwe Hausy (Referent für Spiel und Theater im Zentrum Verkünd
 igung der EKHN).\nKooperationspartner:innen : Bundesverband Kulturarbeit i
 n der evangelischen Jugend e.V. \nEvangelisches Forum Bonn\nAnmeldung und 
 praktische Hinweise: Anmeldung zur Online-Veranstaltung unter folgendem Li
 nk: https://ekir.zoom.us/meeting/register/u5wsfuqvrzojGtM8gLoQFL7C662xc_ib
 LLlZ\nKosten: Die Teilnahme ist kostenlos.\nAnsprechpartner:in: Dr. Bettin
 a Förster\, Studienleiterin und Öffentlichkeitsbeauftragte\nThemenbereich:
  Kirche und digitaler Wandel\nhttps://kirche-und-digitaler-wandel.ekir.de/
 \nTel.: 0228 479898-50\nVeranstaltungsort: Online\n00000 Internet\nInterne
 tadresse: https://ev-akademie-rheinland.ekir.de\nE-Mail: info@akademie.eki
 r.de\nZielgruppe: Es sind alle eingeladen\, die sich für das Themenfeld in
 teressieren.
DTSTART;TZID=Europe/Berlin:20231205T190000
DTEND;TZID=Europe/Berlin:20231205T210000
LOCATION:Internet: Online
SUMMARY:Zeitgeschichte im Krippenspiel :: Vortrag und Interview
URL:https://termine.ekir.de/veranstaltung_im_detail743626.html
END:VEVENT
END:VCALENDAR
