BEGIN:VCALENDAR
VERSION:2.0
PRODID:-//evangelische-termine.de//NONSGML kigkonsult.se iCalcreator 2.18//
CALSCALE:GREGORIAN
METHOD:PUBLISH
X-WR-CALNAME:iCal Evangelische-Termine 19.04.2026
X-WR-CALDESC:iCalender von Evangelische-Termine (19.04.2026)
X-WR-TIMEZONE:Europe/Berlin
X-MS-OLK-FORCEINSPECTOROPEN:TRUE
BEGIN:VTIMEZONE
TZID:Europe/Berlin
BEGIN:STANDARD
DTSTART:19701025T030000
TZOFFSETFROM:+0200
TZOFFSETTO:+0100
RRULE:FREQ=YEARLY;BYDAY=-1SU;BYMONTH=10
TZNAME:CET
END:STANDARD
BEGIN:DAYLIGHT
DTSTART:19700329T020000
TZOFFSETFROM:+0100
TZOFFSETTO:+0200
RRULE:FREQ=YEARLY;BYDAY=-1SU;BYMONTH=3
TZNAME:CEST
END:DAYLIGHT
END:VTIMEZONE
BEGIN:VEVENT
UID:20231112T110000-743992@evangelische-termine.de
DTSTAMP:20260419T193658Z
DESCRIPTION:\nOrt: Christuskirche\nMartin-Luther-Str. 2\n41751 Viersen\nDie
  Christuskirche ist die alte Kernzelle\, das Schmuckstück der Gemeinde. Sc
 hon anderthalb Jahrhunderte alt\, steht sie seit ihrem Umbau 2018 als Perl
 e und Zentrum unserer Gemeinde ganz neu in die Mitte unseres Lebens.\nAnsp
 rechpartner: Pfarrer Mischa Czarnecki mischa.czarnecki@ekir.de\nTel. 02162
 /502393
DTSTART;TZID=Europe/Berlin:20231112T110000
DTEND;TZID=Europe/Berlin:20231112T120000
LOCATION:Viersen: Christuskirche
SUMMARY:Creative Chaos Cirche :: Hinter dicken Brettern!
URL:https://termine.ekir.de/veranstaltung_im_detail743992.html
END:VEVENT
END:VCALENDAR
