BEGIN:VCALENDAR
VERSION:2.0
PRODID:-//evangelische-termine.de//NONSGML kigkonsult.se iCalcreator 2.18//
CALSCALE:GREGORIAN
METHOD:PUBLISH
X-WR-CALNAME:iCal Evangelische-Termine 19.04.2026
X-WR-CALDESC:iCalender von Evangelische-Termine (19.04.2026)
X-WR-TIMEZONE:Europe/Berlin
X-MS-OLK-FORCEINSPECTOROPEN:TRUE
BEGIN:VTIMEZONE
TZID:Europe/Berlin
BEGIN:STANDARD
DTSTART:19701025T030000
TZOFFSETFROM:+0200
TZOFFSETTO:+0100
RRULE:FREQ=YEARLY;BYDAY=-1SU;BYMONTH=10
TZNAME:CET
END:STANDARD
BEGIN:DAYLIGHT
DTSTART:19700329T020000
TZOFFSETFROM:+0100
TZOFFSETTO:+0200
RRULE:FREQ=YEARLY;BYDAY=-1SU;BYMONTH=3
TZNAME:CEST
END:DAYLIGHT
END:VTIMEZONE
BEGIN:VEVENT
UID:20231202T093000-751515@evangelische-termine.de
DTSTAMP:20260419T193600Z
DESCRIPTION:\nOrt: online\n- -\nBeschreibung: Sie erhalten einen Überblick 
 über die Arbeiten rund um den Jahresabschluss und bekommen eine Einführung
 \, wie die statistischen Daten in das digitale Statistikformular eingetrag
 en werden sollen.\nArt der Veranstaltung: Fortbildungen / Seminare / Vortr
 äge\nInternetadresse (eigene Infos im Internet): https://eeb-sued.de/veran
 staltungen/\nEmail: eeb-sued@eeb-sued.de\nWeitere Informationen: Verbindli
 che Anmeldung bis 28.11.2023 über das hinterlegte Anmeldeformular oder per
  Mail an HSchaeuble@eeb-sued.de. \nDie Veranstaltung findet über die onlin
 e Plattform Zoom statt. Die Zugangsdaten erhalten Sie mit der endgültigen 
 Anmeldebestätigung.\n: 
DTSTART;TZID=Europe/Berlin:20231202T093000
DTEND;TZID=Europe/Berlin:20231202T120000
LOCATION:-: online
SUMMARY:Jahresabschluss Statistik mit BVS für Büchereien :: Informationen z
 um Jahresabschluss 2023 mit BVS
URL:https://termine.ekir.de/veranstaltung_im_detail751515.html
END:VEVENT
END:VCALENDAR
