BEGIN:VCALENDAR
VERSION:2.0
PRODID:-//evangelische-termine.de//NONSGML kigkonsult.se iCalcreator 2.18//
CALSCALE:GREGORIAN
METHOD:PUBLISH
X-WR-CALNAME:iCal Evangelische-Termine 19.04.2026
X-WR-CALDESC:iCalender von Evangelische-Termine (19.04.2026)
X-WR-TIMEZONE:Europe/Berlin
X-MS-OLK-FORCEINSPECTOROPEN:TRUE
BEGIN:VTIMEZONE
TZID:Europe/Berlin
BEGIN:STANDARD
DTSTART:19701025T030000
TZOFFSETFROM:+0200
TZOFFSETTO:+0100
RRULE:FREQ=YEARLY;BYDAY=-1SU;BYMONTH=10
TZNAME:CET
END:STANDARD
BEGIN:DAYLIGHT
DTSTART:19700329T020000
TZOFFSETFROM:+0100
TZOFFSETTO:+0200
RRULE:FREQ=YEARLY;BYDAY=-1SU;BYMONTH=3
TZNAME:CEST
END:DAYLIGHT
END:VTIMEZONE
BEGIN:VEVENT
UID:20240309T093000-751602@evangelische-termine.de
DTSTAMP:20260419T204541Z
DESCRIPTION:\nKirchenkreis: überregional\nArt der Veranstaltung: Fortbildun
 gen / Seminare / Vorträge\nVeranstaltungsort: online\n- -\nKurzbeschreibun
 g / Untertitel: Qualifizierungskurs für neue Büchereimitarbeitende und für
  alle\, die ihr Wissen auffrischen möchten.\nAusführliche Beschreibung: In
  diesem online Seminar erfahren Sie die Grundlagen des Regelwerks für die 
 Katalogisierung und Titelaufnahme in evangelischen Büchereien anhand der B
 üchereisoftware BVS. Sie erhalten eine Übersicht über die Systematik der e
 v. Büchereien und Erklärungen zu den Feldern in der Katalogisierungsmaske.
  Im Vorfeld schicken wir Ihnen einen Link zu einer Übungsversion von BVS\,
  die Sie auf ihrem Computer herunterladen und für diese Schulungszwecke nu
 tzen können.\nInternetadresse (eigene Infos im Internet): https://eeb-sued
 .de/veranstaltungen/\nFörderbereich: Ehrenamt\nReferent/in: Andrea Dörr\, 
 Weiterbildnerin für Büchereiarbeit im Rheinland\, Leiterin einer EÖB im Rh
 einland\nAnsprechpartner/in - Leitung: Helena Schäuble (Bildungsreferentin
  im eeb für Büchereiarbeit)\nKosten: 20\,– €\nZusatzinformationen: Verbind
 liche Anmeldung bis 23.02.24 über das hinterlegte Anmeldeformularm oder pe
 r Mail an HSchaeuble@eeb-sued.de.\nDie Veranstaltung findet über die onlin
 e Plattform Zoom statt. Die Zugangsdaten erhalten Sie mit der endgültigen 
 Anmeldebestätigung. \nSie erhalten im Vorfeld der Schulung einen Link für 
 die Schulungsversion von BVS. Diese Version laden Sie bitten für die Schul
 ung auf Ihren Computer.\n: 
DTSTART;TZID=Europe/Berlin:20240309T093000
DTEND;TZID=Europe/Berlin:20240309T123000
LOCATION:-: online
SUMMARY:Qualifizierungskurs Fit für die Büchereiarbeit Modul Katalogisierun
 g/Titelaufnahme mit BVS :: Qualifizierungskurs für neue Büchereimitarbeite
 nde und für alle\, die ihr Wissen auffrischen möchten.
URL:https://termine.ekir.de/veranstaltung_im_detail751602.html
END:VEVENT
END:VCALENDAR
