BEGIN:VCALENDAR
VERSION:2.0
PRODID:-//evangelische-termine.de//NONSGML kigkonsult.se iCalcreator 2.18//
CALSCALE:GREGORIAN
METHOD:PUBLISH
X-WR-CALNAME:iCal Evangelische-Termine 19.04.2026
X-WR-CALDESC:iCalender von Evangelische-Termine (19.04.2026)
X-WR-TIMEZONE:Europe/Berlin
X-MS-OLK-FORCEINSPECTOROPEN:TRUE
BEGIN:VTIMEZONE
TZID:Europe/Berlin
BEGIN:STANDARD
DTSTART:19701025T030000
TZOFFSETFROM:+0200
TZOFFSETTO:+0100
RRULE:FREQ=YEARLY;BYDAY=-1SU;BYMONTH=10
TZNAME:CET
END:STANDARD
BEGIN:DAYLIGHT
DTSTART:19700329T020000
TZOFFSETFROM:+0100
TZOFFSETTO:+0200
RRULE:FREQ=YEARLY;BYDAY=-1SU;BYMONTH=3
TZNAME:CEST
END:DAYLIGHT
END:VTIMEZONE
BEGIN:VEVENT
UID:20240110T180000-751610@evangelische-termine.de
DTSTAMP:20260419T193331Z
DESCRIPTION:\nKirchenkreis: überregional\nArt der Veranstaltung: Fortbildun
 gen / Seminare / Vorträge\nVeranstaltungsort: online\n- -\nAusführliche Be
 schreibung: Sie wollen demnächst einen elektronischen Katalog anbieten und
  fragen sich\, wie die Einrichtung funktioniert? Oder Sie nutzen ihn berei
 ts\, wissen aber nicht so genau\, wie Sie die Startseite Ihres eOPACs gest
 alten können? In diesem Workshop zeigen wir Ihnen\, welche Mittel zur Verf
 ügung stehen\, was Sie beachten müssen und welche Möglichkeiten Sie bei de
 r Gestaltung der Startseite haben.\nFörderbereich: Ehrenamt\nReferent/in: 
 Helena Schäuble\nAnsprechpartner/in - Leitung: Helena Schäuble\nKosten: 20
 \,– €\nZusatzinformationen: Verbindliche Anmeldung bis 03.01.2024 über das
  hinterlegte Anmeldeformular oder per Mail an HSchaeuble@eeb-sued.de\nDies
 er Workshop findet über die online Plattform Zoom statt\, die Zugangsdaten
  erhalten Sie mit der endgültigen Anmeldebestätigung.\n: 
DTSTART;TZID=Europe/Berlin:20240110T180000
DTEND;TZID=Europe/Berlin:20240110T200000
LOCATION:-: online
SUMMARY:Workshop eOPAC in Büchereien - Gestaltung der Startseite und Einste
 llungen :: Workshop für Büchereien\, die mehr über die Möglichkeiten eines
  elektronischen Katalogs (eOPAC) erfahren möchten.
URL:https://termine.ekir.de/veranstaltung_im_detail751610.html
END:VEVENT
END:VCALENDAR
