BEGIN:VCALENDAR
VERSION:2.0
PRODID:-//evangelische-termine.de//NONSGML kigkonsult.se iCalcreator 2.18//
CALSCALE:GREGORIAN
METHOD:PUBLISH
X-WR-CALNAME:iCal Evangelische-Termine 19.04.2026
X-WR-CALDESC:iCalender von Evangelische-Termine (19.04.2026)
X-WR-TIMEZONE:Europe/Berlin
X-MS-OLK-FORCEINSPECTOROPEN:TRUE
BEGIN:VTIMEZONE
TZID:Europe/Berlin
BEGIN:STANDARD
DTSTART:19701025T030000
TZOFFSETFROM:+0200
TZOFFSETTO:+0100
RRULE:FREQ=YEARLY;BYDAY=-1SU;BYMONTH=10
TZNAME:CET
END:STANDARD
BEGIN:DAYLIGHT
DTSTART:19700329T020000
TZOFFSETFROM:+0100
TZOFFSETTO:+0200
RRULE:FREQ=YEARLY;BYDAY=-1SU;BYMONTH=3
TZNAME:CEST
END:DAYLIGHT
END:VTIMEZONE
BEGIN:VEVENT
UID:20240226T140000-751631@evangelische-termine.de
DTSTAMP:20260419T204603Z
DESCRIPTION:\nKirchenkreis: überregional\nArt der Veranstaltung: Fortbildun
 gen / Seminare / Vorträge\nVeranstaltungsort: online\n- -\nAusführliche Be
 schreibung: Die Referentinnen Karin von Prónay und Kerstin Weis haben im R
 ahmen des Medienkomp@ss RLP ein Konzept entwickelt\, das Kinder und Jugend
 liche neugierig auf Bücher macht. Sie haben dieses Konzept bereits mehrfac
 h erprobt. Spielerisch tauchen Kinder und Jugendliche in Geschichten ein u
 nd werden so für das Lesen von Büchern begeistert.\nWie Sie dieses Konzept
  auch in Ihrer Bücherei umsetzen können\, zeigen die Referntinnen Ihnen in
  diesem Seminar. Sie erfahren\, welche Methoden sich eignen\, welche digit
 alen 'Tools' wie dazu genutzt werden können und was bei der Umsetzung zu b
 eachten ist.\nInternetadresse (eigene Infos im Internet): https://eeb-sued
 .de/veranstaltungen/\nFörderbereich: Ehrenamt\nReferent/in: Karin von Prón
 ay und Kerstin Weis (Mitarbeiterinnen der Stadtbücherei Kirn)\nAnsprechpar
 tner/in - Leitung: Helena Schäuble\nKosten: 20€\nZusatzinformationen: Verb
 indliche Anmeldung bis 12.02.24 über das hinterlegte Anmeldeformular oder 
 per Mail an HSchaeuble@eeb-sued.de.\nDie Veranstaltung findet über die onl
 ine Plattform Zoom statt. Die Zugangsdaten erhalten Sie mit der endgültige
 n Anmeldebestätigung.\nFür diesen Workshop benötigen Sie das online Tool '
 Bookcreator'. Den Link für dieses Tool erhalten Sie ebenfalls mit der Anme
 ldebestätigung.\n: 
DTSTART;TZID=Europe/Berlin:20240226T140000
DTEND;TZID=Europe/Berlin:20240226T163000
LOCATION:-: online
SUMMARY:Workshop Büchersteckbrief digital - Kinder und Jugendliche neugieri
 g machen auf Bücher :: Für Interessierte aus Büchereien und alle\, die sic
 h mit Leseförderung für Kinder und Jugendliche beschäftigen.
URL:https://termine.ekir.de/veranstaltung_im_detail751631.html
END:VEVENT
END:VCALENDAR
