BEGIN:VCALENDAR
VERSION:2.0
PRODID:-//evangelische-termine.de//NONSGML kigkonsult.se iCalcreator 2.18//
CALSCALE:GREGORIAN
METHOD:PUBLISH
X-WR-CALNAME:iCal Evangelische-Termine 20.04.2026
X-WR-CALDESC:iCalender von Evangelische-Termine (20.04.2026)
X-WR-TIMEZONE:Europe/Berlin
X-MS-OLK-FORCEINSPECTOROPEN:TRUE
BEGIN:VTIMEZONE
TZID:Europe/Berlin
BEGIN:STANDARD
DTSTART:19701025T030000
TZOFFSETFROM:+0200
TZOFFSETTO:+0100
RRULE:FREQ=YEARLY;BYDAY=-1SU;BYMONTH=10
TZNAME:CET
END:STANDARD
BEGIN:DAYLIGHT
DTSTART:19700329T020000
TZOFFSETFROM:+0100
TZOFFSETTO:+0200
RRULE:FREQ=YEARLY;BYDAY=-1SU;BYMONTH=3
TZNAME:CEST
END:DAYLIGHT
END:VTIMEZONE
BEGIN:VEVENT
UID:20240409T180000-751642@evangelische-termine.de
DTSTAMP:20260419T223619Z
DESCRIPTION:\nKirchenkreis: überregional\nArt der Veranstaltung: Fortbildun
 gen / Seminare / Vorträge\nVeranstaltungsort: online\n- -\nKurzbeschreibun
 g / Untertitel: Für Interessierte aus Büchereien und alle\, die sich mit L
 eseförderung für Kinder beschäftigen.\nAusführliche Beschreibung: Das Ange
 bot an Kinder- und Jugendmedien war noch nie so bunt und vielfältig wie he
 ute! Insbesondere spannend aufgemachte Sachbilderbücher und Geschichten zu
  den Themen Natur\, Tiere\, Umweltschutz oder auch Zahlen und Rechnen biet
 en großes Potenzial: für dialogisches Vorlesen und die Förderung von Worts
 chatz\, Weltwissen und Lesemotivation. Im Rahmen des Vortrags werden aktue
 lle Titel - vom Sachbuch über Geschichten mit MINT-Bezug bis zur App - vor
 gestellt und Tipps für den kreativen Einsatz im Bibliotheks-Alltag sowie b
 ei Vorleseaktionen vermittelt.\nFörderbereich: Ehrenamt\nReferent/in: Chri
 stine Kranz\, Referentin für Leseförderung (Sitftung Lesen)\nAnsprechpartn
 er/in - Leitung: Helena Schäuble (Bildungsreferentin im eeb für Büchereiar
 beit)\nKosten: 20\,– €\nZusatzinformationen: Verbindliche Anmeldung bis 26
 .03.24 über das hinterlegte Anmeldeformular.\nDer Vortrag findet über Zoom
  statt\, einen Link erhalten Sie mit der endgültigen Anmeldebestätigung.\n
 : 
DTSTART;TZID=Europe/Berlin:20240409T180000
DTEND;TZID=Europe/Berlin:20240409T200000
LOCATION:-: online
SUMMARY:ABGESAGT! Vorlesen für Entdecker*innen!  MINT-Themen als Einstieg i
 n die Welt der Bücher :: Für Interessierte aus Büchereien und alle\, die s
 ich mit Leseförderung für Kinder beschäftigen.
URL:https://termine.ekir.de/veranstaltung_im_detail751642.html
END:VEVENT
END:VCALENDAR
